BEGIN:VCALENDAR
VERSION:2.0
PRODID:-//Expertise-Plus - ECPv6.15.11//NONSGML v1.0//EN
CALSCALE:GREGORIAN
METHOD:PUBLISH
X-ORIGINAL-URL:http://expertise-plus.com
X-WR-CALDESC:Évènements pour Expertise-Plus
REFRESH-INTERVAL;VALUE=DURATION:PT1H
X-Robots-Tag:noindex
X-PUBLISHED-TTL:PT1H
BEGIN:VTIMEZONE
TZID:UTC
BEGIN:STANDARD
TZOFFSETFROM:+0000
TZOFFSETTO:+0000
TZNAME:UTC
DTSTART:20250101T000000
END:STANDARD
END:VTIMEZONE
BEGIN:VEVENT
DTSTART;VALUE=DATE:20261102
DTEND;VALUE=DATE:20261114
DTSTAMP:20260424T192029
CREATED:20251114T161705Z
LAST-MODIFIED:20251114T161705Z
UID:19076-1793577600-1794614399@expertise-plus.com
SUMMARY:Sécurité informatique et cybersécurité dans les institutions financières
DESCRIPTION:Sécurité informatique et cybersécurité dans les institutions financières
URL:http://expertise-plus.com/formations/securite-informatique-et-cybersecurite-dans-les-institutions-financieres-2/
LOCATION:Casablanca\, Casablanca\, Morocco
CATEGORIES:Banques, Assurances et Caisses de retraites,Séminaires sectoriels
END:VEVENT
BEGIN:VEVENT
DTSTART;VALUE=DATE:20261109
DTEND;VALUE=DATE:20261121
DTSTAMP:20260424T192029
CREATED:20251114T161357Z
LAST-MODIFIED:20251114T161357Z
UID:19064-1794182400-1795219199@expertise-plus.com
SUMMARY:Surendettement et gestion des risques financiers des clients
DESCRIPTION:Surendettement et gestion des risques financiers des clients
URL:http://expertise-plus.com/formations/surendettement-et-gestion-des-risques-financiers-des-clients-2/
LOCATION:Abidjan\, Abidjan\, Côte d'Ivoire
CATEGORIES:Banques, Assurances et Caisses de retraites,Séminaires sectoriels
END:VEVENT
BEGIN:VEVENT
DTSTART;VALUE=DATE:20261123
DTEND;VALUE=DATE:20261205
DTSTAMP:20260424T192029
CREATED:20251114T160615Z
LAST-MODIFIED:20251114T160615Z
UID:19037-1795392000-1796428799@expertise-plus.com
SUMMARY:Gestion de la trésorerie bancaire : Outils et bonnes pratiques
DESCRIPTION:Gestion de la trésorerie bancaire : Outils et bonnes pratiques
URL:http://expertise-plus.com/formations/gestion-de-la-tresorerie-bancaire-outils-et-bonnes-pratiques/
LOCATION:Abidjan\, Abidjan\, Côte d'Ivoire
CATEGORIES:Banques, Assurances et Caisses de retraites,Séminaires sectoriels
END:VEVENT
BEGIN:VEVENT
DTSTART;VALUE=DATE:20261130
DTEND;VALUE=DATE:20261212
DTSTAMP:20260424T192029
CREATED:20251114T154816Z
LAST-MODIFIED:20251114T154816Z
UID:18968-1795996800-1797033599@expertise-plus.com
SUMMARY:Prédiction et Optimisation des Cotisations de Retraite avec l'IA
DESCRIPTION:Prédiction et Optimisation des Cotisations de Retraite avec l’IA
URL:http://expertise-plus.com/formations/prediction-et-optimisation-des-cotisations-de-retraite-avec-lia-2/
LOCATION:Abidjan\, Abidjan\, Côte d'Ivoire
CATEGORIES:Banques, Assurances et Caisses de retraites,Séminaires sectoriels
END:VEVENT
BEGIN:VEVENT
DTSTART;VALUE=DATE:20261130
DTEND;VALUE=DATE:20261212
DTSTAMP:20260424T192029
CREATED:20251114T155703Z
LAST-MODIFIED:20251114T155703Z
UID:18998-1795996800-1797033599@expertise-plus.com
SUMMARY:Impact des normes IFRS 9 sur la comptabilité bancaire et les risques
DESCRIPTION:Impact des normes IFRS 9 sur la comptabilité bancaire et les risques
URL:http://expertise-plus.com/formations/impact-des-normes-ifrs-9-sur-la-comptabilite-bancaire-et-les-risques-2/
LOCATION:Abidjan\, Abidjan\, Côte d'Ivoire
CATEGORIES:Banques, Assurances et Caisses de retraites,Séminaires sectoriels
END:VEVENT
BEGIN:VEVENT
DTSTART;VALUE=DATE:20261130
DTEND;VALUE=DATE:20261212
DTSTAMP:20260424T192029
CREATED:20251114T160035Z
LAST-MODIFIED:20251114T160035Z
UID:19013-1795996800-1797033599@expertise-plus.com
SUMMARY:Le Cost Killing dans le secteur bancaire : Réduction des coûts et gains d'efficacité
DESCRIPTION:Le Cost Killing dans le secteur bancaire : Réduction des coûts et gains d’efficacité
URL:http://expertise-plus.com/formations/le-cost-killing-dans-le-secteur-bancaire-reduction-des-couts-et-gains-defficacite-2/
LOCATION:Dakar\, Sénégal
CATEGORIES:Banques, Assurances et Caisses de retraites,Séminaires sectoriels
END:VEVENT
BEGIN:VEVENT
DTSTART;VALUE=DATE:20261130
DTEND;VALUE=DATE:20261212
DTSTAMP:20260424T192029
CREATED:20251114T160810Z
LAST-MODIFIED:20251114T160810Z
UID:19046-1795996800-1797033599@expertise-plus.com
SUMMARY:Crédit aux particuliers : Analyse et gestion des risques
DESCRIPTION:Crédit aux particuliers : Analyse et gestion des risques
URL:http://expertise-plus.com/formations/credit-aux-particuliers-analyse-et-gestion-des-risques-2/
LOCATION:Dubai
CATEGORIES:Banques, Assurances et Caisses de retraites,Séminaires sectoriels
END:VEVENT
BEGIN:VEVENT
DTSTART;VALUE=DATE:20261130
DTEND;VALUE=DATE:20261212
DTSTAMP:20260424T192029
CREATED:20251114T161026Z
LAST-MODIFIED:20251114T161026Z
UID:19055-1795996800-1797033599@expertise-plus.com
SUMMARY:Systèmes de paiement : Moyens de paiement domestiques et internationaux
DESCRIPTION:Systèmes de paiement : Moyens de paiement domestiques et internationaux
URL:http://expertise-plus.com/formations/systemes-de-paiement-moyens-de-paiement-domestiques-et-internationaux-2/
LOCATION:Dakar\, Sénégal
CATEGORIES:Banques, Assurances et Caisses de retraites,Séminaires sectoriels
END:VEVENT
BEGIN:VEVENT
DTSTART;VALUE=DATE:20261130
DTEND;VALUE=DATE:20261212
DTSTAMP:20260424T192029
CREATED:20251114T161443Z
LAST-MODIFIED:20251114T161443Z
UID:19067-1795996800-1797033599@expertise-plus.com
SUMMARY:Banques centrales : Rôle et gestion des politiques monétaires
DESCRIPTION:Banques centrales : Rôle et gestion des politiques monétaires
URL:http://expertise-plus.com/formations/banques-centrales-role-et-gestion-des-politiques-monetaires-2/
LOCATION:Ouagadougou\, Ouagadougou\, Burkina Faso
CATEGORIES:Banques, Assurances et Caisses de retraites,Séminaires sectoriels
END:VEVENT
END:VCALENDAR