BEGIN:VCALENDAR
VERSION:2.0
PRODID:-//Expertise-Plus - ECPv6.15.11//NONSGML v1.0//EN
CALSCALE:GREGORIAN
METHOD:PUBLISH
X-WR-CALNAME:Expertise-Plus
X-ORIGINAL-URL:http://expertise-plus.com
X-WR-CALDESC:Évènements pour Expertise-Plus
REFRESH-INTERVAL;VALUE=DURATION:PT1H
X-Robots-Tag:noindex
X-PUBLISHED-TTL:PT1H
BEGIN:VTIMEZONE
TZID:UTC
BEGIN:STANDARD
TZOFFSETFROM:+0000
TZOFFSETTO:+0000
TZNAME:UTC
DTSTART:20250101T000000
END:STANDARD
END:VTIMEZONE
BEGIN:VEVENT
DTSTART;VALUE=DATE:20260629
DTEND;VALUE=DATE:20260711
DTSTAMP:20260424T172128
CREATED:20251114T134028Z
LAST-MODIFIED:20251114T134028Z
UID:18775-1782691200-1783727999@expertise-plus.com
SUMMARY:Management des hôpitaux et établissements de santé : Optimisation des ressources et performance
DESCRIPTION:Management des hôpitaux et établissements de santé : Optimisation des ressources et performance
URL:http://expertise-plus.com/formations/management-des-hopitaux-et-etablissements-de-sante-optimisation-des-ressources-et-performance/
LOCATION:Abidjan\, Abidjan\, Côte d'Ivoire
CATEGORIES:Santé,Séminaires sectoriels
END:VEVENT
BEGIN:VEVENT
DTSTART;VALUE=DATE:20260629
DTEND;VALUE=DATE:20260711
DTSTAMP:20260424T172128
CREATED:20251114T155738Z
LAST-MODIFIED:20251114T155738Z
UID:19001-1782691200-1783727999@expertise-plus.com
SUMMARY:Reporting financier et communication avec la banque centrale
DESCRIPTION:Reporting financier et communication avec la banque centrale
URL:http://expertise-plus.com/formations/reporting-financier-et-communication-avec-la-banque-centrale/
LOCATION:Abidjan\, Abidjan\, Côte d'Ivoire
CATEGORIES:Banques, Assurances et Caisses de retraites,Séminaires sectoriels
END:VEVENT
BEGIN:VEVENT
DTSTART;VALUE=DATE:20260629
DTEND;VALUE=DATE:20260711
DTSTAMP:20260424T172128
CREATED:20251114T160850Z
LAST-MODIFIED:20251114T160850Z
UID:19049-1782691200-1783727999@expertise-plus.com
SUMMARY:Banque d'entreprise : La gestion du corporate banking et des salles des marchés
DESCRIPTION:Banque d’entreprise : La gestion du corporate banking et des salles des marchés
URL:http://expertise-plus.com/formations/banque-dentreprise-la-gestion-du-corporate-banking-et-des-salles-des-marches/
LOCATION:Abidjan\, Abidjan\, Côte d'Ivoire
CATEGORIES:Banques, Assurances et Caisses de retraites,Séminaires sectoriels
END:VEVENT
BEGIN:VEVENT
DTSTART;VALUE=DATE:20260706
DTEND;VALUE=DATE:20260718
DTSTAMP:20260424T172128
CREATED:20251114T145844Z
LAST-MODIFIED:20251114T145844Z
UID:18842-1783296000-1784332799@expertise-plus.com
SUMMARY:Big Data et Analytique
DESCRIPTION:Big Data et Analytique
URL:http://expertise-plus.com/formations/big-data-et-analytique/
LOCATION:Montréal
CATEGORIES:Séminaires sectoriels,Systèmes d'information
END:VEVENT
BEGIN:VEVENT
DTSTART;VALUE=DATE:20260706
DTEND;VALUE=DATE:20260718
DTSTAMP:20260424T172128
CREATED:20251114T151929Z
LAST-MODIFIED:20251114T151929Z
UID:18907-1783296000-1784332799@expertise-plus.com
SUMMARY:Distribution relationnelle et valorisation de l'eau
DESCRIPTION:Distribution relationnelle et valorisation de l’eau
URL:http://expertise-plus.com/formations/distribution-relationnelle-et-valorisation-de-leau/
LOCATION:Montréal
CATEGORIES:Agriculture, eau et assainissement,Séminaires sectoriels
END:VEVENT
BEGIN:VEVENT
DTSTART;VALUE=DATE:20260706
DTEND;VALUE=DATE:20260718
DTSTAMP:20260424T172128
CREATED:20251114T154855Z
LAST-MODIFIED:20251114T154855Z
UID:18971-1783296000-1784332799@expertise-plus.com
SUMMARY:Détection des Fraudes dans les Caisses de Retraite
DESCRIPTION:Détection des Fraudes dans les Caisses de Retraite
URL:http://expertise-plus.com/formations/detection-des-fraudes-dans-les-caisses-de-retraite/
LOCATION:Montréal
CATEGORIES:Banques, Assurances et Caisses de retraites,Séminaires sectoriels
END:VEVENT
BEGIN:VEVENT
DTSTART;VALUE=DATE:20260713
DTEND;VALUE=DATE:20260725
DTSTAMP:20260424T172128
CREATED:20251114T131724Z
LAST-MODIFIED:20251114T131724Z
UID:18720-1783900800-1784937599@expertise-plus.com
SUMMARY:Régionalisation et aménagement du territoire
DESCRIPTION:Régionalisation et aménagement du territoire
URL:http://expertise-plus.com/formations/regionalisation-et-amenagement-du-territoire/
LOCATION:Casablanca\, Casablanca\, Morocco
CATEGORIES:Aménagement urbain et développement des territoires,Séminaires sectoriels
END:VEVENT
BEGIN:VEVENT
DTSTART;VALUE=DATE:20260713
DTEND;VALUE=DATE:20260725
DTSTAMP:20260424T172128
CREATED:20251114T145655Z
LAST-MODIFIED:20251114T145655Z
UID:18837-1783900800-1784937599@expertise-plus.com
SUMMARY:Développement WIN/WEB DEV
DESCRIPTION:Développement WIN/WEB DEV
URL:http://expertise-plus.com/formations/developpement-win-web-dev/
LOCATION:Casablanca\, Casablanca\, Morocco
CATEGORIES:Séminaires sectoriels,Systèmes d'information
END:VEVENT
BEGIN:VEVENT
DTSTART;VALUE=DATE:20260713
DTEND;VALUE=DATE:20260725
DTSTAMP:20260424T172128
CREATED:20251114T151810Z
LAST-MODIFIED:20251114T151810Z
UID:18902-1783900800-1784937599@expertise-plus.com
SUMMARY:Gestion de l'assainissement en milieu urbain
DESCRIPTION:Gestion de l’assainissement en milieu urbain
URL:http://expertise-plus.com/formations/gestion-de-lassainissement-en-milieu-urbain/
LOCATION:Casablanca\, Casablanca\, Morocco
CATEGORIES:Agriculture, eau et assainissement,Séminaires sectoriels
END:VEVENT
BEGIN:VEVENT
DTSTART;VALUE=DATE:20260713
DTEND;VALUE=DATE:20260725
DTSTAMP:20260424T172128
CREATED:20251114T154735Z
LAST-MODIFIED:20251114T154735Z
UID:18966-1783900800-1784937599@expertise-plus.com
SUMMARY:Gestion de Portefeuille pour les Retraites via l'IA
DESCRIPTION:Gestion de Portefeuille pour les Retraites via l’IA
URL:http://expertise-plus.com/formations/gestion-de-portefeuille-pour-les-retraites-via-lia/
LOCATION:Casablanca\, Casablanca\, Morocco
CATEGORIES:Banques, Assurances et Caisses de retraites,Séminaires sectoriels
END:VEVENT
BEGIN:VEVENT
DTSTART;VALUE=DATE:20260713
DTEND;VALUE=DATE:20260725
DTSTAMP:20260424T172128
CREATED:20251114T155628Z
LAST-MODIFIED:20251114T155628Z
UID:18995-1783900800-1784937599@expertise-plus.com
SUMMARY:Réglementation Bâle III : Impact sur la gestion des risques et la rentabilité bancaire
DESCRIPTION:Réglementation Bâle III : Impact sur la gestion des risques et la rentabilité bancaire
URL:http://expertise-plus.com/formations/reglementation-bale-iii-impact-sur-la-gestion-des-risques-et-la-rentabilite-bancaire/
LOCATION:Casablanca\, Casablanca\, Morocco
CATEGORIES:Banques, Assurances et Caisses de retraites,Séminaires sectoriels
END:VEVENT
BEGIN:VEVENT
DTSTART;VALUE=DATE:20260720
DTEND;VALUE=DATE:20260801
DTSTAMP:20260424T172128
CREATED:20251114T132935Z
LAST-MODIFIED:20251114T132935Z
UID:18748-1784505600-1785542399@expertise-plus.com
SUMMARY:Exploration Minérale avec l'IA : Optimisation de la Découverte de Ressources
DESCRIPTION:Exploration Minérale avec l’IA : Optimisation de la Découverte de Ressources
URL:http://expertise-plus.com/formations/exploration-minerale-avec-lia-optimisation-de-la-decouverte-de-ressources/
LOCATION:Abidjan\, Abidjan\, Côte d'Ivoire
CATEGORIES:Mines,Séminaires sectoriels
END:VEVENT
BEGIN:VEVENT
DTSTART;VALUE=DATE:20260720
DTEND;VALUE=DATE:20260801
DTSTAMP:20260424T172128
CREATED:20251114T160229Z
LAST-MODIFIED:20251114T160229Z
UID:19022-1784505600-1785542399@expertise-plus.com
SUMMARY:Cartographie des risques opérationnels dans le secteur bancaire
DESCRIPTION:Cartographie des risques opérationnels dans le secteur bancaire
URL:http://expertise-plus.com/formations/cartographie-des-risques-operationnels-dans-le-secteur-bancaire/
LOCATION:Abidjan\, Abidjan\, Côte d'Ivoire
CATEGORIES:Banques, Assurances et Caisses de retraites,Séminaires sectoriels
END:VEVENT
BEGIN:VEVENT
DTSTART;VALUE=DATE:20260810
DTEND;VALUE=DATE:20260822
DTSTAMP:20260424T172128
CREATED:20251114T145425Z
LAST-MODIFIED:20251114T145425Z
UID:18827-1786320000-1787356799@expertise-plus.com
SUMMARY:Optimisation avec l'IA : Méthodes et Applications
DESCRIPTION:Optimisation avec l’IA : Méthodes et Applications
URL:http://expertise-plus.com/formations/optimisation-avec-lia-methodes-et-applications-2/
LOCATION:Abidjan\, Abidjan\, Côte d'Ivoire
CATEGORIES:Séminaires sectoriels,Systèmes d'information
END:VEVENT
BEGIN:VEVENT
DTSTART;VALUE=DATE:20260810
DTEND;VALUE=DATE:20260822
DTSTAMP:20260424T172128
CREATED:20251114T151613Z
LAST-MODIFIED:20251114T151613Z
UID:18893-1786320000-1787356799@expertise-plus.com
SUMMARY:Gestion Intégrée des Ressources en Eau
DESCRIPTION:Gestion Intégrée des Ressources en Eau
URL:http://expertise-plus.com/formations/gestion-integree-des-ressources-en-eau-2/
LOCATION:Abidjan\, Abidjan\, Côte d'Ivoire
CATEGORIES:Agriculture, eau et assainissement,Séminaires sectoriels
END:VEVENT
BEGIN:VEVENT
DTSTART;VALUE=DATE:20260810
DTEND;VALUE=DATE:20260822
DTSTAMP:20260424T172128
CREATED:20251114T154456Z
LAST-MODIFIED:20251114T154456Z
UID:18957-1786320000-1787356799@expertise-plus.com
SUMMARY:Personnalisation des Produits d'Assurance via l'IA
DESCRIPTION:Personnalisation des Produits d’Assurance via l’IA
URL:http://expertise-plus.com/formations/personnalisation-des-produits-dassurance-via-lia-2/
LOCATION:Abidjan\, Abidjan\, Côte d'Ivoire
CATEGORIES:Banques, Assurances et Caisses de retraites,Séminaires sectoriels
END:VEVENT
BEGIN:VEVENT
DTSTART;VALUE=DATE:20260817
DTEND;VALUE=DATE:20260829
DTSTAMP:20260424T172128
CREATED:20251114T132203Z
LAST-MODIFIED:20251114T132203Z
UID:18729-1786924800-1787961599@expertise-plus.com
SUMMARY:Suivi des plans de gestion environnementaux et sociaux (PGES)
DESCRIPTION:Suivi des plans de gestion environnementaux et sociaux (PGES)
URL:http://expertise-plus.com/formations/suivi-des-plans-de-gestion-environnementaux-et-sociaux-pges-2/
LOCATION:Casablanca\, Casablanca\, Morocco
CATEGORIES:Développement durable et changement climatique,Séminaires sectoriels
END:VEVENT
BEGIN:VEVENT
DTSTART;VALUE=DATE:20260817
DTEND;VALUE=DATE:20260829
DTSTAMP:20260424T172128
CREATED:20251114T134125Z
LAST-MODIFIED:20251114T134125Z
UID:18778-1786924800-1787961599@expertise-plus.com
SUMMARY:La gestion de l'assurance maladie : Stratégies commerciales pour une couverture optimale
DESCRIPTION:La gestion de l’assurance maladie : Stratégies commerciales pour une couverture optimale
URL:http://expertise-plus.com/formations/la-gestion-de-lassurance-maladie-strategies-commerciales-pour-une-couverture-optimale-2/
LOCATION:Casablanca\, Casablanca\, Morocco
CATEGORIES:Santé,Séminaires sectoriels
END:VEVENT
BEGIN:VEVENT
DTSTART;VALUE=DATE:20260817
DTEND;VALUE=DATE:20260829
DTSTAMP:20260424T172128
CREATED:20251114T155811Z
LAST-MODIFIED:20251114T155811Z
UID:19004-1786924800-1787961599@expertise-plus.com
SUMMARY:Gestion actif-passif bancaire : Outils avancés de l'ALM
DESCRIPTION:Gestion actif-passif bancaire : Outils avancés de l’ALM
URL:http://expertise-plus.com/formations/gestion-actif-passif-bancaire-outils-avances-de-lalm-2/
LOCATION:Casablanca\, Casablanca\, Morocco
CATEGORIES:Banques, Assurances et Caisses de retraites,Séminaires sectoriels
END:VEVENT
BEGIN:VEVENT
DTSTART;VALUE=DATE:20260817
DTEND;VALUE=DATE:20260829
DTSTAMP:20260424T172128
CREATED:20251114T160945Z
LAST-MODIFIED:20251114T160945Z
UID:19053-1786924800-1787961599@expertise-plus.com
SUMMARY:Analyse du crédit corporate : Méthodes d’évaluation et pratiques
DESCRIPTION:Analyse du crédit corporate : Méthodes d’évaluation et pratiques
URL:http://expertise-plus.com/formations/analyse-du-credit-corporate-methodes-devaluation-et-pratiques-2/
LOCATION:Casablanca\, Casablanca\, Morocco
CATEGORIES:Banques, Assurances et Caisses de retraites,Séminaires sectoriels
END:VEVENT
BEGIN:VEVENT
DTSTART;VALUE=DATE:20260831
DTEND;VALUE=DATE:20260912
DTSTAMP:20260424T172128
CREATED:20251114T133037Z
LAST-MODIFIED:20251114T133037Z
UID:18751-1788134400-1789171199@expertise-plus.com
SUMMARY:Optimisation de l'Extraction Minérale avec l'IA
DESCRIPTION:Optimisation de l’Extraction Minérale avec l’IA
URL:http://expertise-plus.com/formations/optimisation-de-lextraction-minerale-avec-lia-2/
LOCATION:Dakar\, Sénégal
CATEGORIES:Mines,Séminaires sectoriels
END:VEVENT
BEGIN:VEVENT
DTSTART;VALUE=DATE:20260831
DTEND;VALUE=DATE:20260912
DTSTAMP:20260424T172128
CREATED:20251114T160308Z
LAST-MODIFIED:20251114T160308Z
UID:19025-1788134400-1789171199@expertise-plus.com
SUMMARY:Lutte contre la fraude en banque : Prévention et gestion des risques
DESCRIPTION:Lutte contre la fraude en banque : Prévention et gestion des risques
URL:http://expertise-plus.com/formations/lutte-contre-la-fraude-en-banque-prevention-et-gestion-des-risques-2/
LOCATION:Dakar\, Sénégal
CATEGORIES:Banques, Assurances et Caisses de retraites,Séminaires sectoriels
END:VEVENT
BEGIN:VEVENT
DTSTART;VALUE=DATE:20260831
DTEND;VALUE=DATE:20260912
DTSTAMP:20260424T172128
CREATED:20251114T161217Z
LAST-MODIFIED:20251114T161217Z
UID:19057-1788134400-1789171199@expertise-plus.com
SUMMARY:Devoir de conseil bancaire : Règles et pratiques dans la vente de produits financiers
DESCRIPTION:Devoir de conseil bancaire : Règles et pratiques dans la vente de produits financiers
URL:http://expertise-plus.com/formations/devoir-de-conseil-bancaire-regles-et-pratiques-dans-la-vente-de-produits-financiers-2/
LOCATION:Bamako\, Bamako\, Mali
CATEGORIES:Banques, Assurances et Caisses de retraites,Séminaires sectoriels
END:VEVENT
BEGIN:VEVENT
DTSTART;VALUE=DATE:20260921
DTEND;VALUE=DATE:20261003
DTSTAMP:20260424T172128
CREATED:20241212T235018Z
LAST-MODIFIED:20251114T144516Z
UID:17745-1789948800-1790985599@expertise-plus.com
SUMMARY:IA et Automatisation des Processus d'Entreprise
DESCRIPTION:IA et Automatisation des Processus d’Entreprise
URL:http://expertise-plus.com/formations/ia-et-automatisation-des-processus-dentreprise/
LOCATION:Casablanca\, Casablanca\, Morocco
CATEGORIES:Séminaires sectoriels,Systèmes d'information
END:VEVENT
BEGIN:VEVENT
DTSTART;VALUE=DATE:20260921
DTEND;VALUE=DATE:20261003
DTSTAMP:20260424T172128
CREATED:20251114T131040Z
LAST-MODIFIED:20251114T131243Z
UID:18711-1789948800-1790985599@expertise-plus.com
SUMMARY:Mode de gestion des services publics locaux
DESCRIPTION:Mode de gestion des services publics locaux
URL:http://expertise-plus.com/formations/mode-de-gestion-des-services-publics-locaux/
LOCATION:Casablanca\, Casablanca\, Morocco
CATEGORIES:Aménagement urbain et développement des territoires,Séminaires sectoriels
END:VEVENT
BEGIN:VEVENT
DTSTART;VALUE=DATE:20260921
DTEND;VALUE=DATE:20261003
DTSTAMP:20260424T172128
CREATED:20251114T150947Z
LAST-MODIFIED:20251114T150947Z
UID:18875-1789948800-1790985599@expertise-plus.com
SUMMARY:Gestion des Eaux Usées et Assainissement : L'IA pour une Meilleure Efficacité
DESCRIPTION:Gestion des Eaux Usées et Assainissement : L’IA pour une Meilleure Efficacité
URL:http://expertise-plus.com/formations/gestion-des-eaux-usees-et-assainissement-lia-pour-une-meilleure-efficacite-2/
LOCATION:Casablanca\, Casablanca\, Morocco
CATEGORIES:Agriculture, eau et assainissement,Séminaires sectoriels
END:VEVENT
BEGIN:VEVENT
DTSTART;VALUE=DATE:20260921
DTEND;VALUE=DATE:20261003
DTSTAMP:20260424T172128
CREATED:20251114T153954Z
LAST-MODIFIED:20251114T153954Z
UID:18938-1789948800-1790985599@expertise-plus.com
SUMMARY:L'IA pour l'Automatisation des Processus Bancaires
DESCRIPTION:L’IA pour l’Automatisation des Processus Bancaires
URL:http://expertise-plus.com/formations/lia-pour-lautomatisation-des-processus-bancaires-2/
LOCATION:Casablanca\, Casablanca\, Morocco
CATEGORIES:Banques, Assurances et Caisses de retraites,Séminaires sectoriels
END:VEVENT
BEGIN:VEVENT
DTSTART;VALUE=DATE:20260921
DTEND;VALUE=DATE:20261003
DTSTAMP:20260424T172128
CREATED:20251114T155358Z
LAST-MODIFIED:20251114T155358Z
UID:18986-1789948800-1790985599@expertise-plus.com
SUMMARY:Segmentation bancaire et typologie de la clientèle : Vers les nouveaux métiers
DESCRIPTION:Segmentation bancaire et typologie de la clientèle : Vers les nouveaux métiers
URL:http://expertise-plus.com/formations/segmentation-bancaire-et-typologie-de-la-clientele-vers-les-nouveaux-metiers-2/
LOCATION:Casablanca\, Casablanca\, Morocco
CATEGORIES:Banques, Assurances et Caisses de retraites,Séminaires sectoriels
END:VEVENT
BEGIN:VEVENT
DTSTART;VALUE=DATE:20260928
DTEND;VALUE=DATE:20261010
DTSTAMP:20260424T172128
CREATED:20251114T131434Z
LAST-MODIFIED:20251114T131434Z
UID:18716-1790553600-1791590399@expertise-plus.com
SUMMARY:Décentralisation et déconcentration administrative
DESCRIPTION:Décentralisation et déconcentration administrative
URL:http://expertise-plus.com/formations/decentralisation-et-deconcentration-administrative-2/
LOCATION:Abidjan\, Abidjan\, Côte d'Ivoire
CATEGORIES:Aménagement urbain et développement des territoires,Séminaires sectoriels
END:VEVENT
BEGIN:VEVENT
DTSTART;VALUE=DATE:20260928
DTEND;VALUE=DATE:20261010
DTSTAMP:20260424T172128
CREATED:20251114T132252Z
LAST-MODIFIED:20251114T132252Z
UID:18733-1790553600-1791590399@expertise-plus.com
SUMMARY:Evaluation environnementale : Analyses multicritères et procédures d'enquêtes publiques
DESCRIPTION:Evaluation environnementale : Analyses multicritères et procédures d’enquêtes publiques
URL:http://expertise-plus.com/formations/evaluation-environnementale-analyses-multicriteres-et-procedures-denquetes-publiques-2/
LOCATION:Abidjan\, Abidjan\, Côte d'Ivoire
CATEGORIES:Développement durable et changement climatique,Séminaires sectoriels
END:VEVENT
END:VCALENDAR