BEGIN:VCALENDAR
VERSION:2.0
PRODID:-//Expertise-Plus - ECPv6.15.11//NONSGML v1.0//EN
CALSCALE:GREGORIAN
METHOD:PUBLISH
X-WR-CALNAME:Expertise-Plus
X-ORIGINAL-URL:http://expertise-plus.com
X-WR-CALDESC:Évènements pour Expertise-Plus
REFRESH-INTERVAL;VALUE=DURATION:PT1H
X-Robots-Tag:noindex
X-PUBLISHED-TTL:PT1H
BEGIN:VTIMEZONE
TZID:UTC
BEGIN:STANDARD
TZOFFSETFROM:+0000
TZOFFSETTO:+0000
TZNAME:UTC
DTSTART:20250101T000000
END:STANDARD
END:VTIMEZONE
BEGIN:VEVENT
DTSTART;VALUE=DATE:20261005
DTEND;VALUE=DATE:20261017
DTSTAMP:20260424T234448
CREATED:20251114T151731Z
LAST-MODIFIED:20251114T151731Z
UID:18899-1791158400-1792195199@expertise-plus.com
SUMMARY:Agriculture Climato-Intelligente
DESCRIPTION:Agriculture Climato-Intelligente
URL:http://expertise-plus.com/formations/agriculture-climato-intelligente-2/
LOCATION:Montréal
CATEGORIES:Agriculture, eau et assainissement,Séminaires sectoriels
END:VEVENT
BEGIN:VEVENT
DTSTART;VALUE=DATE:20261005
DTEND;VALUE=DATE:20261017
DTSTAMP:20260424T234448
CREATED:20251114T154135Z
LAST-MODIFIED:20251114T154135Z
UID:18944-1791158400-1792195199@expertise-plus.com
SUMMARY:Optimisation des Prêts et Crédits via l'IA
DESCRIPTION:Optimisation des Prêts et Crédits via l’IA
URL:http://expertise-plus.com/formations/optimisation-des-prets-et-credits-via-lia-2/
LOCATION:Lomé\, Lomé\, Togo
CATEGORIES:Banques, Assurances et Caisses de retraites,Séminaires sectoriels
END:VEVENT
BEGIN:VEVENT
DTSTART;VALUE=DATE:20261005
DTEND;VALUE=DATE:20261017
DTSTAMP:20260424T234448
CREATED:20251114T154640Z
LAST-MODIFIED:20251114T154640Z
UID:18963-1791158400-1792195199@expertise-plus.com
SUMMARY:Chatbots et Assistants Virtuels dans les Assurances
DESCRIPTION:Chatbots et Assistants Virtuels dans les Assurances
URL:http://expertise-plus.com/formations/chatbots-et-assistants-virtuels-dans-les-assurances-2/
LOCATION:Montréal
CATEGORIES:Banques, Assurances et Caisses de retraites,Séminaires sectoriels
END:VEVENT
BEGIN:VEVENT
DTSTART;VALUE=DATE:20261005
DTEND;VALUE=DATE:20261017
DTSTAMP:20260424T234448
CREATED:20251114T155518Z
LAST-MODIFIED:20251114T155518Z
UID:18992-1791158400-1792195199@expertise-plus.com
SUMMARY:Fiscalité bancaire : Comprendre ses subtilités
DESCRIPTION:Fiscalité bancaire : Comprendre ses subtilités
URL:http://expertise-plus.com/formations/fiscalite-bancaire-comprendre-ses-subtilites-2/
LOCATION:Lomé\, Lomé\, Togo
CATEGORIES:Banques, Assurances et Caisses de retraites,Séminaires sectoriels
END:VEVENT
BEGIN:VEVENT
DTSTART;VALUE=DATE:20261006
DTEND;VALUE=DATE:20261018
DTSTAMP:20260424T234448
CREATED:20251114T151112Z
LAST-MODIFIED:20251114T151112Z
UID:18881-1791244800-1792281599@expertise-plus.com
SUMMARY:Utilisation de l'IA pour l'Optimisation des Infrastructures d'Assainissement Urbain
DESCRIPTION:Utilisation de l’IA pour l’Optimisation des Infrastructures d’Assainissement Urbain
URL:http://expertise-plus.com/formations/utilisation-de-lia-pour-loptimisation-des-infrastructures-dassainissement-urbain-2/
LOCATION:Lomé\, Lomé\, Togo
CATEGORIES:Agriculture, eau et assainissement,Séminaires sectoriels
END:VEVENT
BEGIN:VEVENT
DTSTART;VALUE=DATE:20261012
DTEND;VALUE=DATE:20261024
DTSTAMP:20260424T234448
CREATED:20251114T133232Z
LAST-MODIFIED:20251114T133232Z
UID:18757-1791763200-1792799999@expertise-plus.com
SUMMARY:Sécurité et Surveillance des Sites Miniers grâce à l'IA
DESCRIPTION:Sécurité et Surveillance des Sites Miniers grâce à l’IA
URL:http://expertise-plus.com/formations/securite-et-surveillance-des-sites-miniers-grace-a-lia-2/
LOCATION:Casablanca\, Casablanca\, Morocco
CATEGORIES:Mines,Séminaires sectoriels
END:VEVENT
BEGIN:VEVENT
DTSTART;VALUE=DATE:20261012
DTEND;VALUE=DATE:20261024
DTSTAMP:20260424T234448
CREATED:20251114T145205Z
LAST-MODIFIED:20251114T145205Z
UID:18818-1791763200-1792799999@expertise-plus.com
SUMMARY:Intelligence Artificielle et Éthique : Défis et Solutions
DESCRIPTION:Intelligence Artificielle et Éthique : Défis et Solutions
URL:http://expertise-plus.com/formations/intelligence-artificielle-et-ethique-defis-et-solutions/
LOCATION:Marrakech
CATEGORIES:Séminaires sectoriels,Systèmes d'information
END:VEVENT
BEGIN:VEVENT
DTSTART;VALUE=DATE:20261012
DTEND;VALUE=DATE:20261024
DTSTAMP:20260424T234448
CREATED:20251114T151203Z
LAST-MODIFIED:20251114T151203Z
UID:18884-1791763200-1792799999@expertise-plus.com
SUMMARY:L'IA pour la Surveillance et la Protection de la Biodiversité Aquatique
DESCRIPTION:L’IA pour la Surveillance et la Protection de la Biodiversité Aquatique
URL:http://expertise-plus.com/formations/lia-pour-la-surveillance-et-la-protection-de-la-biodiversite-aquatique-2/
LOCATION:Marrakech
CATEGORIES:Agriculture, eau et assainissement,Séminaires sectoriels
END:VEVENT
BEGIN:VEVENT
DTSTART;VALUE=DATE:20261012
DTEND;VALUE=DATE:20261024
DTSTAMP:20260424T234448
CREATED:20251114T154218Z
LAST-MODIFIED:20251114T154218Z
UID:18947-1791763200-1792799999@expertise-plus.com
SUMMARY:L'IA dans la Lutte contre la Fraude Bancaire
DESCRIPTION:L’IA dans la Lutte contre la Fraude Bancaire
URL:http://expertise-plus.com/formations/lia-dans-la-lutte-contre-la-fraude-bancaire-2/
LOCATION:Marrakech
CATEGORIES:Banques, Assurances et Caisses de retraites,Séminaires sectoriels
END:VEVENT
BEGIN:VEVENT
DTSTART;VALUE=DATE:20261012
DTEND;VALUE=DATE:20261024
DTSTAMP:20260424T234448
CREATED:20251114T160453Z
LAST-MODIFIED:20251114T160453Z
UID:19031-1791763200-1792799999@expertise-plus.com
SUMMARY:Le secret bancaire : Définitions\, enjeux et évolutions
DESCRIPTION:Le secret bancaire : Définitions\, enjeux et évolutions
URL:http://expertise-plus.com/formations/le-secret-bancaire-definitions-enjeux-et-evolutions-2/
LOCATION:Casablanca\, Casablanca\, Morocco
CATEGORIES:Banques, Assurances et Caisses de retraites,Séminaires sectoriels
END:VEVENT
BEGIN:VEVENT
DTSTART;VALUE=DATE:20261019
DTEND;VALUE=DATE:20261031
DTSTAMP:20260424T234448
CREATED:20251114T132535Z
LAST-MODIFIED:20251114T132535Z
UID:18742-1792368000-1793404799@expertise-plus.com
SUMMARY:Méthodologie et outils de suivi environnemental
DESCRIPTION:Méthodologie et outils de suivi environnemental
URL:http://expertise-plus.com/formations/methodologie-et-outils-de-suivi-environnemental-2/
LOCATION:Marrakech
CATEGORIES:Développement durable et changement climatique,Séminaires sectoriels
END:VEVENT
BEGIN:VEVENT
DTSTART;VALUE=DATE:20261019
DTEND;VALUE=DATE:20261031
DTSTAMP:20260424T234448
CREATED:20251114T145252Z
LAST-MODIFIED:20251114T145252Z
UID:18821-1792368000-1793404799@expertise-plus.com
SUMMARY:AI et Internet des Objets (IoT) : L'IA au service de l'IoT
DESCRIPTION:AI et Internet des Objets (IoT) : L’IA au service de l’IoT
URL:http://expertise-plus.com/formations/ai-et-internet-des-objets-iot-lia-au-service-de-liot-2/
LOCATION:Marrakech
CATEGORIES:Séminaires sectoriels,Systèmes d'information
END:VEVENT
BEGIN:VEVENT
DTSTART;VALUE=DATE:20261019
DTEND;VALUE=DATE:20261031
DTSTAMP:20260424T234448
CREATED:20251114T151414Z
LAST-MODIFIED:20251114T151414Z
UID:18888-1792368000-1793404799@expertise-plus.com
SUMMARY:IA pour l'Agriculture Climato-Intelligente
DESCRIPTION:IA pour l’Agriculture Climato-Intelligente
URL:http://expertise-plus.com/formations/ia-pour-lagriculture-climato-intelligente-2/
LOCATION:Marrakech
CATEGORIES:Agriculture, eau et assainissement,Séminaires sectoriels
END:VEVENT
BEGIN:VEVENT
DTSTART;VALUE=DATE:20261019
DTEND;VALUE=DATE:20261031
DTSTAMP:20260424T234448
CREATED:20251114T154315Z
LAST-MODIFIED:20251114T154315Z
UID:18951-1792368000-1793404799@expertise-plus.com
SUMMARY:L'IA pour la Gestion de Portefeuille et les Investissements
DESCRIPTION:L’IA pour la Gestion de Portefeuille et les Investissements
URL:http://expertise-plus.com/formations/lia-pour-la-gestion-de-portefeuille-et-les-investissements-2/
LOCATION:Marrakech
CATEGORIES:Banques, Assurances et Caisses de retraites,Séminaires sectoriels
END:VEVENT
BEGIN:VEVENT
DTSTART;VALUE=DATE:20261019
DTEND;VALUE=DATE:20261031
DTSTAMP:20260424T234448
CREATED:20251114T160115Z
LAST-MODIFIED:20251114T160115Z
UID:19016-1792368000-1793404799@expertise-plus.com
SUMMARY:Audit bancaire : Contrôles internes et conformité réglementaire
DESCRIPTION:Audit bancaire : Contrôles internes et conformité réglementaire
URL:http://expertise-plus.com/formations/audit-bancaire-controles-internes-et-conformite-reglementaire-2/
LOCATION:Marrakech
CATEGORIES:Banques, Assurances et Caisses de retraites,Séminaires sectoriels
END:VEVENT
BEGIN:VEVENT
DTSTART;VALUE=DATE:20261019
DTEND;VALUE=DATE:20261031
DTSTAMP:20260424T234448
CREATED:20251114T161324Z
LAST-MODIFIED:20251114T161324Z
UID:19061-1792368000-1793404799@expertise-plus.com
SUMMARY:RSE en Banque : Responsabilité sociétale et environnementale
DESCRIPTION:RSE en Banque : Responsabilité sociétale et environnementale
URL:http://expertise-plus.com/formations/rse-en-banque-responsabilite-societale-et-environnementale-2/
LOCATION:Casablanca\, Casablanca\, Morocco
CATEGORIES:Banques, Assurances et Caisses de retraites,Séminaires sectoriels
END:VEVENT
BEGIN:VEVENT
DTSTART;VALUE=DATE:20261026
DTEND;VALUE=DATE:20261107
DTSTAMP:20260424T234448
CREATED:20251114T145343Z
LAST-MODIFIED:20251114T145343Z
UID:18824-1792972800-1794009599@expertise-plus.com
SUMMARY:IA et Blockchain : Combinaison de deux technologies révolutionnaires
DESCRIPTION:IA et Blockchain : Combinaison de deux technologies révolutionnaires
URL:http://expertise-plus.com/formations/ia-et-blockchain-combinaison-de-deux-technologies-revolutionnaires-2/
LOCATION:Dakar\, Sénégal
CATEGORIES:Séminaires sectoriels,Systèmes d'information
END:VEVENT
BEGIN:VEVENT
DTSTART;VALUE=DATE:20261026
DTEND;VALUE=DATE:20261107
DTSTAMP:20260424T234448
CREATED:20251114T151521Z
LAST-MODIFIED:20251114T151521Z
UID:18891-1792972800-1794009599@expertise-plus.com
SUMMARY:Systèmes de Monitoring pour l'Assainissement et la Qualité de l'Eau Potable
DESCRIPTION:Systèmes de Monitoring pour l’Assainissement et la Qualité de l’Eau Potable
URL:http://expertise-plus.com/formations/systemes-de-monitoring-pour-lassainissement-et-la-qualite-de-leau-potable-2/
LOCATION:Dakar\, Sénégal
CATEGORIES:Agriculture, eau et assainissement,Séminaires sectoriels
END:VEVENT
BEGIN:VEVENT
DTSTART;VALUE=DATE:20261026
DTEND;VALUE=DATE:20261107
DTSTAMP:20260424T234448
CREATED:20251114T154402Z
LAST-MODIFIED:20251114T154402Z
UID:18953-1792972800-1794009599@expertise-plus.com
SUMMARY:L'IA pour la Gestion des Sinistres et des Réclamations
DESCRIPTION:L’IA pour la Gestion des Sinistres et des Réclamations
URL:http://expertise-plus.com/formations/lia-pour-la-gestion-des-sinistres-et-des-reclamations-2/
LOCATION:Dakar\, Sénégal
CATEGORIES:Banques, Assurances et Caisses de retraites,Séminaires sectoriels
END:VEVENT
BEGIN:VEVENT
DTSTART;VALUE=DATE:20261026
DTEND;VALUE=DATE:20261107
DTSTAMP:20260424T234448
CREATED:20251114T161620Z
LAST-MODIFIED:20251114T161620Z
UID:19073-1792972800-1794009599@expertise-plus.com
SUMMARY:Banque digitale et relation à distance : Nouvelles tendances et défis
DESCRIPTION:Banque digitale et relation à distance : Nouvelles tendances et défis
URL:http://expertise-plus.com/formations/banque-digitale-et-relation-a-distance-nouvelles-tendances-et-defis-2/
LOCATION:Marrakech
CATEGORIES:Banques, Assurances et Caisses de retraites,Séminaires sectoriels
END:VEVENT
BEGIN:VEVENT
DTSTART;VALUE=DATE:20261102
DTEND;VALUE=DATE:20261114
DTSTAMP:20260424T234448
CREATED:20251114T133336Z
LAST-MODIFIED:20251114T133336Z
UID:18761-1793577600-1794614399@expertise-plus.com
SUMMARY:Optimisation de la Logistique et du Transport avec l'IA
DESCRIPTION:Optimisation de la Logistique et du Transport avec l’IA
URL:http://expertise-plus.com/formations/optimisation-de-la-logistique-et-du-transport-avec-lia-2/
LOCATION:Montréal
CATEGORIES:Mines,Séminaires sectoriels
END:VEVENT
BEGIN:VEVENT
DTSTART;VALUE=DATE:20261102
DTEND;VALUE=DATE:20261114
DTSTAMP:20260424T234448
CREATED:20251114T160539Z
LAST-MODIFIED:20251114T160539Z
UID:19034-1793577600-1794614399@expertise-plus.com
SUMMARY:Banque islamique : Principes\, produits et comptabilité
DESCRIPTION:Banque islamique : Principes\, produits et comptabilité
URL:http://expertise-plus.com/formations/banque-islamique-principes-produits-et-comptabilite-2/
LOCATION:Montréal
CATEGORIES:Banques, Assurances et Caisses de retraites,Séminaires sectoriels
END:VEVENT
BEGIN:VEVENT
DTSTART;VALUE=DATE:20261102
DTEND;VALUE=DATE:20261114
DTSTAMP:20260424T234448
CREATED:20251114T161705Z
LAST-MODIFIED:20251114T161705Z
UID:19076-1793577600-1794614399@expertise-plus.com
SUMMARY:Sécurité informatique et cybersécurité dans les institutions financières
DESCRIPTION:Sécurité informatique et cybersécurité dans les institutions financières
URL:http://expertise-plus.com/formations/securite-informatique-et-cybersecurite-dans-les-institutions-financieres-2/
LOCATION:Casablanca\, Casablanca\, Morocco
CATEGORIES:Banques, Assurances et Caisses de retraites,Séminaires sectoriels
END:VEVENT
BEGIN:VEVENT
DTSTART;VALUE=DATE:20261109
DTEND;VALUE=DATE:20261121
DTSTAMP:20260424T234448
CREATED:20251114T161357Z
LAST-MODIFIED:20251114T161357Z
UID:19064-1794182400-1795219199@expertise-plus.com
SUMMARY:Surendettement et gestion des risques financiers des clients
DESCRIPTION:Surendettement et gestion des risques financiers des clients
URL:http://expertise-plus.com/formations/surendettement-et-gestion-des-risques-financiers-des-clients-2/
LOCATION:Abidjan\, Abidjan\, Côte d'Ivoire
CATEGORIES:Banques, Assurances et Caisses de retraites,Séminaires sectoriels
END:VEVENT
BEGIN:VEVENT
DTSTART;VALUE=DATE:20261123
DTEND;VALUE=DATE:20261205
DTSTAMP:20260424T234448
CREATED:20251114T133549Z
LAST-MODIFIED:20251114T133549Z
UID:18762-1795392000-1796428799@expertise-plus.com
SUMMARY:Réduction de l'Empreinte Environnementale des Mines grâce à l'IA
DESCRIPTION:Réduction de l’Empreinte Environnementale des Mines grâce à l’IA
URL:http://expertise-plus.com/formations/reduction-de-lempreinte-environnementale-des-mines-grace-a-lia-2/
LOCATION:Abidjan\, Abidjan\, Côte d'Ivoire
CATEGORIES:Mines,Séminaires sectoriels
END:VEVENT
BEGIN:VEVENT
DTSTART;VALUE=DATE:20261123
DTEND;VALUE=DATE:20261205
DTSTAMP:20260424T234448
CREATED:20251114T160615Z
LAST-MODIFIED:20251114T160615Z
UID:19037-1795392000-1796428799@expertise-plus.com
SUMMARY:Gestion de la trésorerie bancaire : Outils et bonnes pratiques
DESCRIPTION:Gestion de la trésorerie bancaire : Outils et bonnes pratiques
URL:http://expertise-plus.com/formations/gestion-de-la-tresorerie-bancaire-outils-et-bonnes-pratiques/
LOCATION:Abidjan\, Abidjan\, Côte d'Ivoire
CATEGORIES:Banques, Assurances et Caisses de retraites,Séminaires sectoriels
END:VEVENT
BEGIN:VEVENT
DTSTART;VALUE=DATE:20261130
DTEND;VALUE=DATE:20261212
DTSTAMP:20260424T234448
CREATED:20251114T131811Z
LAST-MODIFIED:20251114T131811Z
UID:18724-1795996800-1797033599@expertise-plus.com
SUMMARY:Fondement des stratégies intégrées de l'aménagement
DESCRIPTION:Fondement des stratégies intégrées de l’aménagement
URL:http://expertise-plus.com/formations/fondement-des-strategies-integrees-de-lamenagement-2/
LOCATION:Abidjan\, Abidjan\, Côte d'Ivoire
CATEGORIES:Aménagement urbain et développement des territoires,Séminaires sectoriels
END:VEVENT
BEGIN:VEVENT
DTSTART;VALUE=DATE:20261130
DTEND;VALUE=DATE:20261212
DTSTAMP:20260424T234448
CREATED:20251114T132437Z
LAST-MODIFIED:20251114T132437Z
UID:18738-1795996800-1797033599@expertise-plus.com
SUMMARY:Etudes d'impact environnemental et social (EIES)
DESCRIPTION:Etudes d’impact environnemental et social (EIES)
URL:http://expertise-plus.com/formations/etudes-dimpact-environnemental-et-social-eies-2/
LOCATION:Dakar\, Sénégal
CATEGORIES:Développement durable et changement climatique,Séminaires sectoriels
END:VEVENT
BEGIN:VEVENT
DTSTART;VALUE=DATE:20261130
DTEND;VALUE=DATE:20261212
DTSTAMP:20260424T234448
CREATED:20251114T133818Z
LAST-MODIFIED:20251114T133818Z
UID:18772-1795996800-1797033599@expertise-plus.com
SUMMARY:Transformation Numérique et Gestion de Données dans l'Industrie Minière
DESCRIPTION:Transformation Numérique et Gestion de Données dans l’Industrie Minière
URL:http://expertise-plus.com/formations/transformation-numerique-et-gestion-de-donnees-dans-lindustrie-miniere-2/
LOCATION:Dubai
CATEGORIES:Mines,Séminaires sectoriels
END:VEVENT
BEGIN:VEVENT
DTSTART;VALUE=DATE:20261130
DTEND;VALUE=DATE:20261212
DTSTAMP:20260424T234448
CREATED:20251114T134229Z
LAST-MODIFIED:20251114T134229Z
UID:18783-1795996800-1797033599@expertise-plus.com
SUMMARY:La mise en place d'un système de couverture maladie universelle : De la conception à la commercialisation
DESCRIPTION:La mise en place d’un système de couverture maladie universelle : De la conception à la commercialisation
URL:http://expertise-plus.com/formations/la-mise-en-place-dun-systeme-de-couverture-maladie-universelle-de-la-conception-a-la-commercialisation-2/
LOCATION:Dakar\, Sénégal
CATEGORIES:Santé,Séminaires sectoriels
END:VEVENT
END:VCALENDAR