BEGIN:VCALENDAR
VERSION:2.0
PRODID:-//Expertise-Plus - ECPv6.15.11//NONSGML v1.0//EN
CALSCALE:GREGORIAN
METHOD:PUBLISH
X-ORIGINAL-URL:http://expertise-plus.com
X-WR-CALDESC:Évènements pour Expertise-Plus
REFRESH-INTERVAL;VALUE=DURATION:PT1H
X-Robots-Tag:noindex
X-PUBLISHED-TTL:PT1H
BEGIN:VTIMEZONE
TZID:UTC
BEGIN:STANDARD
TZOFFSETFROM:+0000
TZOFFSETTO:+0000
TZNAME:UTC
DTSTART:20250101T000000
END:STANDARD
END:VTIMEZONE
BEGIN:VEVENT
DTSTART;VALUE=DATE:20260330
DTEND;VALUE=DATE:20260411
DTSTAMP:20260423T151610
CREATED:20251116T170330Z
LAST-MODIFIED:20251116T170330Z
UID:19533-1774828800-1775865599@expertise-plus.com
SUMMARY:Dématérialisation des Procédures de Marchés Publics : l'e-passation
DESCRIPTION:Dématérialisation des Procédures de Marchés Publics : l’e-passation
URL:http://expertise-plus.com/formations/dematerialisation-des-procedures-de-marches-publics-le-passation/
LOCATION:Abidjan\, Abidjan\, Côte d'Ivoire
CATEGORIES:Commande publique,Séminaires transversaux
END:VEVENT
END:VCALENDAR