BEGIN:VCALENDAR
VERSION:2.0
PRODID:-//Expertise-Plus - ECPv6.15.11//NONSGML v1.0//EN
CALSCALE:GREGORIAN
METHOD:PUBLISH
X-ORIGINAL-URL:http://expertise-plus.com
X-WR-CALDESC:Évènements pour Expertise-Plus
REFRESH-INTERVAL;VALUE=DURATION:PT1H
X-Robots-Tag:noindex
X-PUBLISHED-TTL:PT1H
BEGIN:VTIMEZONE
TZID:UTC
BEGIN:STANDARD
TZOFFSETFROM:+0000
TZOFFSETTO:+0000
TZNAME:UTC
DTSTART:20250101T000000
END:STANDARD
END:VTIMEZONE
BEGIN:VEVENT
DTSTART;VALUE=DATE:20260511
DTEND;VALUE=DATE:20260523
DTSTAMP:20260424T123658
CREATED:20251116T155844Z
LAST-MODIFIED:20251116T155844Z
UID:19355-1778457600-1779494399@expertise-plus.com
SUMMARY:Budgétisation Pluriannuelle : Cadrage et Programmation des Dépenses dans un Contexte de Crise
DESCRIPTION:Budgétisation Pluriannuelle : Cadrage et Programmation des Dépenses dans un Contexte de Crise
URL:http://expertise-plus.com/formations/budgetisation-pluriannuelle-cadrage-et-programmation-des-depenses-dans-un-contexte-de-crise/
LOCATION:Abidjan\, Abidjan\, Côte d'Ivoire
CATEGORIES:Management des projets,Séminaires transversaux
END:VEVENT
BEGIN:VEVENT
DTSTART;VALUE=DATE:20260511
DTEND;VALUE=DATE:20260523
DTSTAMP:20260424T123658
CREATED:20251116T162544Z
LAST-MODIFIED:20251116T162544Z
UID:19442-1778457600-1779494399@expertise-plus.com
SUMMARY:Elaboration des politiques : politique sectorielle\, analyse des politiques et la politique d’investissement
DESCRIPTION:Elaboration des politiques : politique sectorielle\, analyse des politiques et la politique d’investissement
URL:http://expertise-plus.com/formations/elaboration-des-politiques-politique-sectorielle-analyse-des-politiques-et-la-politique-dinvestissement/
LOCATION:Ouagadougou\, Ouagadougou\, Burkina Faso
CATEGORIES:Management des projets,Séminaires transversaux
END:VEVENT
BEGIN:VEVENT
DTSTART;VALUE=DATE:20260513
DTEND;VALUE=DATE:20260525
DTSTAMP:20260424T123658
CREATED:20251116T154608Z
LAST-MODIFIED:20251116T154608Z
UID:19314-1778630400-1779667199@expertise-plus.com
SUMMARY:Planification et Suivi d'Avancement avec MS Project : Innovations Technologiques
DESCRIPTION:Planification et Suivi d’Avancement avec MS Project : Innovations Technologiques
URL:http://expertise-plus.com/formations/planification-et-suivi-davancement-avec-ms-project-innovations-technologiques/
LOCATION:Casablanca\, Casablanca\, Morocco
CATEGORIES:Management des projets,Séminaires transversaux
END:VEVENT
BEGIN:VEVENT
DTSTART;VALUE=DATE:20260518
DTEND;VALUE=DATE:20260530
DTSTAMP:20260424T123658
CREATED:20251116T152937Z
LAST-MODIFIED:20251116T152937Z
UID:19271-1779062400-1780099199@expertise-plus.com
SUMMARY:Introduction à l'IA et son impact sur le management de projet
DESCRIPTION:Introduction à l’IA et son impact sur le management de projet
URL:http://expertise-plus.com/formations/introduction-a-lia-et-son-impact-sur-le-management-de-projet/
LOCATION:Abidjan\, Abidjan\, Côte d'Ivoire
CATEGORIES:Management des projets,Séminaires transversaux
END:VEVENT
BEGIN:VEVENT
DTSTART;VALUE=DATE:20260518
DTEND;VALUE=DATE:20260530
DTSTAMP:20260424T123658
CREATED:20251116T155237Z
LAST-MODIFIED:20251116T155237Z
UID:19337-1779062400-1780099199@expertise-plus.com
SUMMARY:Évaluation des Effets et Impacts d'un Projet : Techniques et Outils de Collecte de Données
DESCRIPTION:Évaluation des Effets et Impacts d’un Projet : Techniques et Outils de Collecte de Données
URL:http://expertise-plus.com/formations/evaluation-des-effets-et-impacts-dun-projet-techniques-et-outils-de-collecte-de-donnees/
LOCATION:Bamako\, Bamako\, Mali
CATEGORIES:Management des projets,Séminaires transversaux
END:VEVENT
BEGIN:VEVENT
DTSTART;VALUE=DATE:20260518
DTEND;VALUE=DATE:20260530
DTSTAMP:20260424T123658
CREATED:20251116T162712Z
LAST-MODIFIED:20251116T162712Z
UID:19448-1779062400-1780099199@expertise-plus.com
SUMMARY:Techniques de recouvrement fiscal
DESCRIPTION:Techniques de recouvrement fiscal
URL:http://expertise-plus.com/formations/techniques-de-recouvrement-fiscal/
LOCATION:Dakar\, Sénégal
CATEGORIES:Management des projets,Séminaires transversaux
END:VEVENT
BEGIN:VEVENT
DTSTART;VALUE=DATE:20260519
DTEND;VALUE=DATE:20260530
DTSTAMP:20260424T123658
CREATED:20251116T163053Z
LAST-MODIFIED:20251116T163053Z
UID:19463-1779148800-1780099199@expertise-plus.com
SUMMARY:Finances Publiques : Gestion de la Dette et Recettes dans un Contexte Mondial Évolutif
DESCRIPTION:Finances Publiques : Gestion de la Dette et Recettes dans un Contexte Mondial Évolutif
URL:http://expertise-plus.com/formations/finances-publiques-gestion-de-la-dette-et-recettes-dans-un-contexte-mondial-evolutif/
LOCATION:Marrakech
CATEGORIES:Management des projets,Séminaires transversaux
END:VEVENT
BEGIN:VEVENT
DTSTART;VALUE=DATE:20260525
DTEND;VALUE=DATE:20260606
DTSTAMP:20260424T123658
CREATED:20251116T155358Z
LAST-MODIFIED:20251116T155358Z
UID:19343-1779667200-1780703999@expertise-plus.com
SUMMARY:Gestion de Projet Agile
DESCRIPTION:Gestion de Projet Agile
URL:http://expertise-plus.com/formations/gestion-de-projet-agile/
LOCATION:Abidjan\, Abidjan\, Côte d'Ivoire
CATEGORIES:Management des projets,Séminaires transversaux
END:VEVENT
BEGIN:VEVENT
DTSTART;VALUE=DATE:20260601
DTEND;VALUE=DATE:20260613
DTSTAMP:20260424T123658
CREATED:20251116T162629Z
LAST-MODIFIED:20251116T162629Z
UID:19445-1780272000-1781308799@expertise-plus.com
SUMMARY:Programmation budgétaire et loi des finances
DESCRIPTION:Programmation budgétaire et loi des finances
URL:http://expertise-plus.com/formations/programmation-budgetaire-et-loi-des-finances/
LOCATION:Abidjan\, Abidjan\, Côte d'Ivoire
CATEGORIES:Management des projets,Séminaires transversaux
END:VEVENT
BEGIN:VEVENT
DTSTART;VALUE=DATE:20260601
DTEND;VALUE=DATE:20260613
DTSTAMP:20260424T123658
CREATED:20251116T162759Z
LAST-MODIFIED:20251116T162759Z
UID:19451-1780272000-1781308799@expertise-plus.com
SUMMARY:Circuit de la dépense publique : processus\, cartographie et acteurs
DESCRIPTION:Circuit de la dépense publique : processus\, cartographie et acteurs
URL:http://expertise-plus.com/formations/circuit-de-la-depense-publique-processus-cartographie-et-acteurs/
LOCATION:Casablanca\, Casablanca\, Morocco
CATEGORIES:Management des projets,Séminaires transversaux
END:VEVENT
BEGIN:VEVENT
DTSTART;VALUE=DATE:20260608
DTEND;VALUE=DATE:20260620
DTSTAMP:20260424T123658
CREATED:20251116T161636Z
LAST-MODIFIED:20251116T161636Z
UID:19418-1780876800-1781913599@expertise-plus.com
SUMMARY:Contrôle de gestion dans le secteur public
DESCRIPTION:Contrôle de gestion dans le secteur public
URL:http://expertise-plus.com/formations/controle-de-gestion-dans-le-secteur-public/
LOCATION:Abidjan\, Abidjan\, Côte d'Ivoire
CATEGORIES:Management des projets,Séminaires transversaux
END:VEVENT
BEGIN:VEVENT
DTSTART;VALUE=DATE:20260615
DTEND;VALUE=DATE:20260627
DTSTAMP:20260424T123658
CREATED:20251116T155316Z
LAST-MODIFIED:20251116T155316Z
UID:19340-1781481600-1782518399@expertise-plus.com
SUMMARY:Mesures des Effets et Impacts avec Kobotoolbox : Approches Innovantes
DESCRIPTION:Mesures des Effets et Impacts avec Kobotoolbox : Approches Innovantes
URL:http://expertise-plus.com/formations/mesures-des-effets-et-impacts-avec-kobotoolbox-approches-innovantes/
LOCATION:Dakar\, Sénégal
CATEGORIES:Management des projets,Séminaires transversaux
END:VEVENT
BEGIN:VEVENT
DTSTART;VALUE=DATE:20260615
DTEND;VALUE=DATE:20260627
DTSTAMP:20260424T123658
CREATED:20251116T155650Z
LAST-MODIFIED:20251116T155650Z
UID:19349-1781481600-1782518399@expertise-plus.com
SUMMARY:Gestion des Finances Publiques : Défis et Solutions dans le Contexte Harmonisé
DESCRIPTION:Gestion des Finances Publiques : Défis et Solutions dans le Contexte Harmonisé
URL:http://expertise-plus.com/formations/gestion-des-finances-publiques-defis-et-solutions-dans-le-contexte-harmonise/
LOCATION:Dakar\, Sénégal
CATEGORIES:Management des projets,Séminaires transversaux
END:VEVENT
BEGIN:VEVENT
DTSTART;VALUE=DATE:20260615
DTEND;VALUE=DATE:20260627
DTSTAMP:20260424T123658
CREATED:20251116T161308Z
LAST-MODIFIED:20251116T161308Z
UID:19403-1781481600-1782518399@expertise-plus.com
SUMMARY:Analyse économique et la maitrîse des risques pour l'utilisation des partenariats public-privé (PPP)
DESCRIPTION:Analyse économique et la maitrîse des risques pour l’utilisation des partenariats public-privé (PPP)
URL:http://expertise-plus.com/formations/analyse-economique-et-la-maitrise-des-risques-pour-lutilisation-des-partenariats-public-prive-ppp/
LOCATION:Dakar\, Sénégal
CATEGORIES:Management des projets,Séminaires transversaux
END:VEVENT
BEGIN:VEVENT
DTSTART;VALUE=DATE:20260622
DTEND;VALUE=DATE:20260704
DTSTAMP:20260424T123658
CREATED:20251116T162844Z
LAST-MODIFIED:20251116T162844Z
UID:19454-1782086400-1783123199@expertise-plus.com
SUMMARY:Planification stratégique\, programmation des investissements publics et budgets programmes (PIP)
DESCRIPTION:Planification stratégique\, programmation des investissements publics et budgets programmes (PIP)
URL:http://expertise-plus.com/formations/planification-strategique-programmation-des-investissements-publics-et-budgets-programmes-pip/
LOCATION:Dakar\, Sénégal
CATEGORIES:Management des projets,Séminaires transversaux
END:VEVENT
BEGIN:VEVENT
DTSTART;VALUE=DATE:20260706
DTEND;VALUE=DATE:20260718
DTSTAMP:20260424T123658
CREATED:20251116T161554Z
LAST-MODIFIED:20251116T161554Z
UID:19415-1783296000-1784332799@expertise-plus.com
SUMMARY:Techniques de contrôle sur pièces et la lutte contre l'évasion fiscale
DESCRIPTION:Techniques de contrôle sur pièces et la lutte contre l’évasion fiscale
URL:http://expertise-plus.com/formations/techniques-de-controle-sur-pieces-et-la-lutte-contre-levasion-fiscale/
LOCATION:Casablanca\, Casablanca\, Morocco
CATEGORIES:Management des projets,Séminaires transversaux
END:VEVENT
BEGIN:VEVENT
DTSTART;VALUE=DATE:20260713
DTEND;VALUE=DATE:20260725
DTSTAMP:20260424T123658
CREATED:20251116T161429Z
LAST-MODIFIED:20251116T161429Z
UID:19409-1783900800-1784937599@expertise-plus.com
SUMMARY:Mobilisation des recettes fiscales : comment lutter efficacement contre la fraude et l’optimisation fiscales
DESCRIPTION:Mobilisation des recettes fiscales : comment lutter efficacement contre la fraude et l’optimisation fiscales
URL:http://expertise-plus.com/formations/mobilisation-des-recettes-fiscales-comment-lutter-efficacement-contre-la-fraude-et-loptimisation-fiscales/
LOCATION:Montréal
CATEGORIES:Management des projets,Séminaires transversaux
END:VEVENT
BEGIN:VEVENT
DTSTART;VALUE=DATE:20260713
DTEND;VALUE=DATE:20260725
DTSTAMP:20260424T123658
CREATED:20251116T162929Z
LAST-MODIFIED:20251116T162929Z
UID:19457-1783900800-1784937599@expertise-plus.com
SUMMARY:Tableau des opérations financières de l'État (TOFE)
DESCRIPTION:Tableau des opérations financières de l’État (TOFE)
URL:http://expertise-plus.com/formations/tableau-des-operations-financieres-de-letat-tofe/
LOCATION:Marrakech
CATEGORIES:Management des projets,Séminaires transversaux
END:VEVENT
BEGIN:VEVENT
DTSTART;VALUE=DATE:20260720
DTEND;VALUE=DATE:20260801
DTSTAMP:20260424T123658
CREATED:20251116T153433Z
LAST-MODIFIED:20251116T153433Z
UID:19275-1784505600-1785542399@expertise-plus.com
SUMMARY:Optimisation des processus de gestion de projet avec l'IA
DESCRIPTION:Optimisation des processus de gestion de projet avec l’IA
URL:http://expertise-plus.com/formations/optimisation-des-processus-de-gestion-de-projet-avec-lia/
LOCATION:Ouagadougou\, Ouagadougou\, Burkina Faso
CATEGORIES:Management des projets,Séminaires transversaux
END:VEVENT
BEGIN:VEVENT
DTSTART;VALUE=DATE:20260720
DTEND;VALUE=DATE:20260801
DTSTAMP:20260424T123658
CREATED:20251116T154731Z
LAST-MODIFIED:20251116T154731Z
UID:19319-1784505600-1785542399@expertise-plus.com
SUMMARY:Maîtrise d'Ouvrage des Grands Projets d'Infrastructures : Approches Durables
DESCRIPTION:Maîtrise d’Ouvrage des Grands Projets d’Infrastructures : Approches Durables
URL:http://expertise-plus.com/formations/maitrise-douvrage-des-grands-projets-dinfrastructures-approches-durables/
LOCATION:Casablanca\, Casablanca\, Morocco
CATEGORIES:Management des projets,Séminaires transversaux
END:VEVENT
BEGIN:VEVENT
DTSTART;VALUE=DATE:20260810
DTEND;VALUE=DATE:20260822
DTSTAMP:20260424T123658
CREATED:20251116T155506Z
LAST-MODIFIED:20251116T155506Z
UID:19347-1786320000-1787356799@expertise-plus.com
SUMMARY:Planification Stratégique de Projets
DESCRIPTION:Planification Stratégique de Projets
URL:http://expertise-plus.com/formations/planification-strategique-de-projets-2/
LOCATION:Montréal
CATEGORIES:Management des projets,Séminaires transversaux
END:VEVENT
BEGIN:VEVENT
DTSTART;VALUE=DATE:20260810
DTEND;VALUE=DATE:20260822
DTSTAMP:20260424T123658
CREATED:20251116T161208Z
LAST-MODIFIED:20251116T161208Z
UID:19400-1786320000-1787356799@expertise-plus.com
SUMMARY:Les prévisions macroéconomiques et le cadrage budgétaire
DESCRIPTION:Les prévisions macroéconomiques et le cadrage budgétaire
URL:http://expertise-plus.com/formations/les-previsions-macroeconomiques-et-le-cadrage-budgetaire-2/
LOCATION:Marrakech
CATEGORIES:Management des projets,Séminaires transversaux
END:VEVENT
BEGIN:VEVENT
DTSTART;VALUE=DATE:20260810
DTEND;VALUE=DATE:20260822
DTSTAMP:20260424T123658
CREATED:20251116T161833Z
LAST-MODIFIED:20251116T161833Z
UID:19424-1786320000-1787356799@expertise-plus.com
SUMMARY:Elaboration des stratégies sectorielles et l'identification des projets
DESCRIPTION:Elaboration des stratégies sectorielles et l’identification des projets
URL:http://expertise-plus.com/formations/elaboration-des-strategies-sectorielles-et-lidentification-des-projets-2/
LOCATION:Abidjan\, Abidjan\, Côte d'Ivoire
CATEGORIES:Management des projets,Séminaires transversaux
END:VEVENT
BEGIN:VEVENT
DTSTART;VALUE=DATE:20260831
DTEND;VALUE=DATE:20260912
DTSTAMP:20260424T123658
CREATED:20251116T153518Z
LAST-MODIFIED:20251116T153518Z
UID:19276-1788134400-1789171199@expertise-plus.com
SUMMARY:Gestion des risques de projet à l’aide de l’IA
DESCRIPTION:Gestion des risques de projet à l’aide de l’IA
URL:http://expertise-plus.com/formations/gestion-des-risques-de-projet-a-laide-de-lia-2/
LOCATION:Casablanca\, Casablanca\, Morocco
CATEGORIES:Management des projets,Séminaires transversaux
END:VEVENT
BEGIN:VEVENT
DTSTART;VALUE=DATE:20260831
DTEND;VALUE=DATE:20260912
DTSTAMP:20260424T123658
CREATED:20251116T154210Z
LAST-MODIFIED:20251116T154210Z
UID:19301-1788134400-1789171199@expertise-plus.com
SUMMARY:Leadership et gestion d’équipes de projet en environnement IA
DESCRIPTION:Leadership et gestion d’équipes de projet en environnement IA
URL:http://expertise-plus.com/formations/leadership-et-gestion-dequipes-de-projet-en-environnement-ia-2/
LOCATION:Abidjan\, Abidjan\, Côte d'Ivoire
CATEGORIES:Management des projets,Séminaires transversaux
END:VEVENT
BEGIN:VEVENT
DTSTART;VALUE=DATE:20260921
DTEND;VALUE=DATE:20261003
DTSTAMP:20260424T123658
CREATED:20251116T160703Z
LAST-MODIFIED:20251116T160703Z
UID:19382-1789948800-1790985599@expertise-plus.com
SUMMARY:La LOLF et ses modalités des mise en oeuvre
DESCRIPTION:La LOLF et ses modalités des mise en oeuvre
URL:http://expertise-plus.com/formations/la-lolf-et-ses-modalites-des-mise-en-oeuvre-2/
LOCATION:Casablanca\, Casablanca\, Morocco
CATEGORIES:Management des projets,Séminaires transversaux
END:VEVENT
BEGIN:VEVENT
DTSTART;VALUE=DATE:20260928
DTEND;VALUE=DATE:20261010
DTSTAMP:20260424T123658
CREATED:20251116T153604Z
LAST-MODIFIED:20251116T153604Z
UID:19280-1790553600-1791590399@expertise-plus.com
SUMMARY:Utilisation de l’IA pour le suivi et le contrôle des projets
DESCRIPTION:Utilisation de l’IA pour le suivi et le contrôle des projets
URL:http://expertise-plus.com/formations/utilisation-de-lia-pour-le-suivi-et-le-controle-des-projets-2/
LOCATION:Abidjan\, Abidjan\, Côte d'Ivoire
CATEGORIES:Management des projets,Séminaires transversaux
END:VEVENT
BEGIN:VEVENT
DTSTART;VALUE=DATE:20260928
DTEND;VALUE=DATE:20261010
DTSTAMP:20260424T123658
CREATED:20251116T160757Z
LAST-MODIFIED:20251116T160757Z
UID:19385-1790553600-1791590399@expertise-plus.com
SUMMARY:Démarche et organisation d'une mission d'audit de performance
DESCRIPTION:Démarche et organisation d’une mission d’audit de performance
URL:http://expertise-plus.com/formations/demarche-et-organisation-dune-mission-daudit-de-performance-2/
LOCATION:Lomé\, Lomé\, Togo
CATEGORIES:Management des projets,Séminaires transversaux
END:VEVENT
BEGIN:VEVENT
DTSTART;VALUE=DATE:20261005
DTEND;VALUE=DATE:20261017
DTSTAMP:20260424T123658
CREATED:20251116T160845Z
LAST-MODIFIED:20251116T160845Z
UID:19388-1791158400-1792195199@expertise-plus.com
SUMMARY:Elaboration du budget programme
DESCRIPTION:Elaboration du budget programme
URL:http://expertise-plus.com/formations/elaboration-du-budget-programme-2/
LOCATION:Casablanca\, Casablanca\, Morocco
CATEGORIES:Management des projets,Séminaires transversaux
END:VEVENT
BEGIN:VEVENT
DTSTART;VALUE=DATE:20261005
DTEND;VALUE=DATE:20261017
DTSTAMP:20260424T123658
CREATED:20251116T161347Z
LAST-MODIFIED:20251116T161347Z
UID:19406-1791158400-1792195199@expertise-plus.com
SUMMARY:Contrôle douanier et la lutte contre la fraude
DESCRIPTION:Contrôle douanier et la lutte contre la fraude
URL:http://expertise-plus.com/formations/controle-douanier-et-la-lutte-contre-la-fraude-2/
LOCATION:Abidjan\, Abidjan\, Côte d'Ivoire
CATEGORIES:Management des projets,Séminaires transversaux
END:VEVENT
END:VCALENDAR