BEGIN:VCALENDAR
VERSION:2.0
PRODID:-//Expertise-Plus - ECPv6.15.11//NONSGML v1.0//EN
CALSCALE:GREGORIAN
METHOD:PUBLISH
X-ORIGINAL-URL:http://expertise-plus.com
X-WR-CALDESC:Évènements pour Expertise-Plus
REFRESH-INTERVAL;VALUE=DURATION:PT1H
X-Robots-Tag:noindex
X-PUBLISHED-TTL:PT1H
BEGIN:VTIMEZONE
TZID:UTC
BEGIN:STANDARD
TZOFFSETFROM:+0000
TZOFFSETTO:+0000
TZNAME:UTC
DTSTART:20250101T000000
END:STANDARD
END:VTIMEZONE
BEGIN:VEVENT
DTSTART;VALUE=DATE:20260810
DTEND;VALUE=DATE:20260822
DTSTAMP:20260424T160540
CREATED:20251116T155506Z
LAST-MODIFIED:20251116T155506Z
UID:19347-1786320000-1787356799@expertise-plus.com
SUMMARY:Planification Stratégique de Projets
DESCRIPTION:Planification Stratégique de Projets
URL:http://expertise-plus.com/formations/planification-strategique-de-projets-2/
LOCATION:Montréal
CATEGORIES:Management des projets,Séminaires transversaux
END:VEVENT
BEGIN:VEVENT
DTSTART;VALUE=DATE:20260810
DTEND;VALUE=DATE:20260822
DTSTAMP:20260424T160540
CREATED:20251116T161208Z
LAST-MODIFIED:20251116T161208Z
UID:19400-1786320000-1787356799@expertise-plus.com
SUMMARY:Les prévisions macroéconomiques et le cadrage budgétaire
DESCRIPTION:Les prévisions macroéconomiques et le cadrage budgétaire
URL:http://expertise-plus.com/formations/les-previsions-macroeconomiques-et-le-cadrage-budgetaire-2/
LOCATION:Marrakech
CATEGORIES:Management des projets,Séminaires transversaux
END:VEVENT
BEGIN:VEVENT
DTSTART;VALUE=DATE:20260810
DTEND;VALUE=DATE:20260822
DTSTAMP:20260424T160540
CREATED:20251116T161833Z
LAST-MODIFIED:20251116T161833Z
UID:19424-1786320000-1787356799@expertise-plus.com
SUMMARY:Elaboration des stratégies sectorielles et l'identification des projets
DESCRIPTION:Elaboration des stratégies sectorielles et l’identification des projets
URL:http://expertise-plus.com/formations/elaboration-des-strategies-sectorielles-et-lidentification-des-projets-2/
LOCATION:Abidjan\, Abidjan\, Côte d'Ivoire
CATEGORIES:Management des projets,Séminaires transversaux
END:VEVENT
BEGIN:VEVENT
DTSTART;VALUE=DATE:20260831
DTEND;VALUE=DATE:20260912
DTSTAMP:20260424T160540
CREATED:20251116T153518Z
LAST-MODIFIED:20251116T153518Z
UID:19276-1788134400-1789171199@expertise-plus.com
SUMMARY:Gestion des risques de projet à l’aide de l’IA
DESCRIPTION:Gestion des risques de projet à l’aide de l’IA
URL:http://expertise-plus.com/formations/gestion-des-risques-de-projet-a-laide-de-lia-2/
LOCATION:Casablanca\, Casablanca\, Morocco
CATEGORIES:Management des projets,Séminaires transversaux
END:VEVENT
BEGIN:VEVENT
DTSTART;VALUE=DATE:20260831
DTEND;VALUE=DATE:20260912
DTSTAMP:20260424T160540
CREATED:20251116T154210Z
LAST-MODIFIED:20251116T154210Z
UID:19301-1788134400-1789171199@expertise-plus.com
SUMMARY:Leadership et gestion d’équipes de projet en environnement IA
DESCRIPTION:Leadership et gestion d’équipes de projet en environnement IA
URL:http://expertise-plus.com/formations/leadership-et-gestion-dequipes-de-projet-en-environnement-ia-2/
LOCATION:Abidjan\, Abidjan\, Côte d'Ivoire
CATEGORIES:Management des projets,Séminaires transversaux
END:VEVENT
BEGIN:VEVENT
DTSTART;VALUE=DATE:20260921
DTEND;VALUE=DATE:20261003
DTSTAMP:20260424T160540
CREATED:20251116T160703Z
LAST-MODIFIED:20251116T160703Z
UID:19382-1789948800-1790985599@expertise-plus.com
SUMMARY:La LOLF et ses modalités des mise en oeuvre
DESCRIPTION:La LOLF et ses modalités des mise en oeuvre
URL:http://expertise-plus.com/formations/la-lolf-et-ses-modalites-des-mise-en-oeuvre-2/
LOCATION:Casablanca\, Casablanca\, Morocco
CATEGORIES:Management des projets,Séminaires transversaux
END:VEVENT
BEGIN:VEVENT
DTSTART;VALUE=DATE:20260928
DTEND;VALUE=DATE:20261010
DTSTAMP:20260424T160540
CREATED:20251116T153604Z
LAST-MODIFIED:20251116T153604Z
UID:19280-1790553600-1791590399@expertise-plus.com
SUMMARY:Utilisation de l’IA pour le suivi et le contrôle des projets
DESCRIPTION:Utilisation de l’IA pour le suivi et le contrôle des projets
URL:http://expertise-plus.com/formations/utilisation-de-lia-pour-le-suivi-et-le-controle-des-projets-2/
LOCATION:Abidjan\, Abidjan\, Côte d'Ivoire
CATEGORIES:Management des projets,Séminaires transversaux
END:VEVENT
BEGIN:VEVENT
DTSTART;VALUE=DATE:20260928
DTEND;VALUE=DATE:20261010
DTSTAMP:20260424T160540
CREATED:20251116T160757Z
LAST-MODIFIED:20251116T160757Z
UID:19385-1790553600-1791590399@expertise-plus.com
SUMMARY:Démarche et organisation d'une mission d'audit de performance
DESCRIPTION:Démarche et organisation d’une mission d’audit de performance
URL:http://expertise-plus.com/formations/demarche-et-organisation-dune-mission-daudit-de-performance-2/
LOCATION:Lomé\, Lomé\, Togo
CATEGORIES:Management des projets,Séminaires transversaux
END:VEVENT
BEGIN:VEVENT
DTSTART;VALUE=DATE:20261005
DTEND;VALUE=DATE:20261017
DTSTAMP:20260424T160540
CREATED:20251116T160845Z
LAST-MODIFIED:20251116T160845Z
UID:19388-1791158400-1792195199@expertise-plus.com
SUMMARY:Elaboration du budget programme
DESCRIPTION:Elaboration du budget programme
URL:http://expertise-plus.com/formations/elaboration-du-budget-programme-2/
LOCATION:Casablanca\, Casablanca\, Morocco
CATEGORIES:Management des projets,Séminaires transversaux
END:VEVENT
BEGIN:VEVENT
DTSTART;VALUE=DATE:20261005
DTEND;VALUE=DATE:20261017
DTSTAMP:20260424T160540
CREATED:20251116T161347Z
LAST-MODIFIED:20251116T161347Z
UID:19406-1791158400-1792195199@expertise-plus.com
SUMMARY:Contrôle douanier et la lutte contre la fraude
DESCRIPTION:Contrôle douanier et la lutte contre la fraude
URL:http://expertise-plus.com/formations/controle-douanier-et-la-lutte-contre-la-fraude-2/
LOCATION:Abidjan\, Abidjan\, Côte d'Ivoire
CATEGORIES:Management des projets,Séminaires transversaux
END:VEVENT
BEGIN:VEVENT
DTSTART;VALUE=DATE:20261012
DTEND;VALUE=DATE:20261024
DTSTAMP:20260424T160540
CREATED:20251116T153651Z
LAST-MODIFIED:20251116T153651Z
UID:19283-1791763200-1792799999@expertise-plus.com
SUMMARY:Améliorer la collaboration et la communication de projet grâce à l'IA
DESCRIPTION:Améliorer la collaboration et la communication de projet grâce à l’IA
URL:http://expertise-plus.com/formations/ameliorer-la-collaboration-et-la-communication-de-projet-grace-a-lia-2/
LOCATION:Dakar\, Sénégal
CATEGORIES:Management des projets,Séminaires transversaux
END:VEVENT
BEGIN:VEVENT
DTSTART;VALUE=DATE:20261012
DTEND;VALUE=DATE:20261024
DTSTAMP:20260424T160540
CREATED:20251116T154914Z
LAST-MODIFIED:20251116T154914Z
UID:19325-1791763200-1792799999@expertise-plus.com
SUMMARY:Techniques d'Audit des Grands Projets d'Infrastructures : Normes Internationales
DESCRIPTION:Techniques d’Audit des Grands Projets d’Infrastructures : Normes Internationales
URL:http://expertise-plus.com/formations/techniques-daudit-des-grands-projets-dinfrastructures-normes-internationales-2/
LOCATION:Ouagadougou\, Ouagadougou\, Burkina Faso
CATEGORIES:Management des projets,Séminaires transversaux
END:VEVENT
BEGIN:VEVENT
DTSTART;VALUE=DATE:20261012
DTEND;VALUE=DATE:20261024
DTSTAMP:20260424T160540
CREATED:20251116T160937Z
LAST-MODIFIED:20251116T160937Z
UID:19391-1791763200-1792799999@expertise-plus.com
SUMMARY:Contrôle externe et audit des Finances Publiques
DESCRIPTION:Contrôle externe et audit des Finances Publiques
URL:http://expertise-plus.com/formations/controle-externe-et-audit-des-finances-publiques-2/
LOCATION:Abidjan\, Abidjan\, Côte d'Ivoire
CATEGORIES:Management des projets,Séminaires transversaux
END:VEVENT
BEGIN:VEVENT
DTSTART;VALUE=DATE:20261019
DTEND;VALUE=DATE:20261031
DTSTAMP:20260424T160540
CREATED:20251116T161035Z
LAST-MODIFIED:20251116T161035Z
UID:19394-1792368000-1793404799@expertise-plus.com
SUMMARY:Initiation aux outils pour comprendre les dépenses publiques
DESCRIPTION:Initiation aux outils pour comprendre les dépenses publiques
URL:http://expertise-plus.com/formations/initiation-aux-outils-pour-comprendre-les-depenses-publiques-2/
LOCATION:Lomé\, Lomé\, Togo
CATEGORIES:Management des projets,Séminaires transversaux
END:VEVENT
BEGIN:VEVENT
DTSTART;VALUE=DATE:20261026
DTEND;VALUE=DATE:20261107
DTSTAMP:20260424T160540
CREATED:20251116T161120Z
LAST-MODIFIED:20251116T161120Z
UID:19397-1792972800-1794009599@expertise-plus.com
SUMMARY:Prévention et la lutte contre la fraude et la corruption
DESCRIPTION:Prévention et la lutte contre la fraude et la corruption
URL:http://expertise-plus.com/formations/prevention-et-la-lutte-contre-la-fraude-et-la-corruption-2/
LOCATION:Marrakech
CATEGORIES:Management des projets,Séminaires transversaux
END:VEVENT
BEGIN:VEVENT
DTSTART;VALUE=DATE:20261102
DTEND;VALUE=DATE:20261114
DTSTAMP:20260424T160540
CREATED:20251116T153756Z
LAST-MODIFIED:20251116T153756Z
UID:19286-1793577600-1794614399@expertise-plus.com
SUMMARY:L’IA dans les méthodologies Agile et Scrum
DESCRIPTION:L’IA dans les méthodologies Agile et Scrum
URL:http://expertise-plus.com/formations/lia-dans-les-methodologies-agile-et-scrum-2/
LOCATION:Ouagadougou\, Ouagadougou\, Burkina Faso
CATEGORIES:Management des projets,Séminaires transversaux
END:VEVENT
BEGIN:VEVENT
DTSTART;VALUE=DATE:20261109
DTEND;VALUE=DATE:20261121
DTSTAMP:20260424T160540
CREATED:20251116T154957Z
LAST-MODIFIED:20251116T154957Z
UID:19328-1794182400-1795219199@expertise-plus.com
SUMMARY:MS Project : Gestion des Coûts et des Ressources dans le Contexte Actuel
DESCRIPTION:MS Project : Gestion des Coûts et des Ressources dans le Contexte Actuel
URL:http://expertise-plus.com/formations/ms-project-gestion-des-couts-et-des-ressources-dans-le-contexte-actuel-2/
LOCATION:Dakar\, Sénégal
CATEGORIES:Management des projets,Séminaires transversaux
END:VEVENT
BEGIN:VEVENT
DTSTART;VALUE=DATE:20261123
DTEND;VALUE=DATE:20261205
DTSTAMP:20260424T160540
CREATED:20251116T153843Z
LAST-MODIFIED:20251116T153843Z
UID:19289-1795392000-1796428799@expertise-plus.com
SUMMARY:Ethique et gouvernance de l'IA dans le management de projet
DESCRIPTION:Ethique et gouvernance de l’IA dans le management de projet
URL:http://expertise-plus.com/formations/ethique-et-gouvernance-de-lia-dans-le-management-de-projet/
LOCATION:Casablanca\, Casablanca\, Morocco
CATEGORIES:Management des projets,Séminaires transversaux
END:VEVENT
BEGIN:VEVENT
DTSTART;VALUE=DATE:20261123
DTEND;VALUE=DATE:20261205
DTSTAMP:20260424T160540
CREATED:20251116T163010Z
LAST-MODIFIED:20251116T163010Z
UID:19460-1795392000-1796428799@expertise-plus.com
SUMMARY:Contrôle de Gestion : Techniques Modernes et Évaluation des Performances
DESCRIPTION:Contrôle de Gestion : Techniques Modernes et Évaluation des Performances
URL:http://expertise-plus.com/formations/controle-de-gestion-techniques-modernes-et-evaluation-des-performances-2/
LOCATION:Casablanca\, Casablanca\, Morocco
CATEGORIES:Management des projets,Séminaires transversaux
END:VEVENT
BEGIN:VEVENT
DTSTART;VALUE=DATE:20261130
DTEND;VALUE=DATE:20261212
DTSTAMP:20260424T160540
CREATED:20251116T154127Z
LAST-MODIFIED:20251116T154127Z
UID:19298-1795996800-1797033599@expertise-plus.com
SUMMARY:Transformation digitale du management de projet : l’IA comme catalyseur
DESCRIPTION:Transformation digitale du management de projet : l’IA comme catalyseur
URL:http://expertise-plus.com/formations/transformation-digitale-du-management-de-projet-lia-comme-catalyseur-2/
LOCATION:Lomé\, Lomé\, Togo
CATEGORIES:Management des projets,Séminaires transversaux
END:VEVENT
BEGIN:VEVENT
DTSTART;VALUE=DATE:20261130
DTEND;VALUE=DATE:20261212
DTSTAMP:20260424T160540
CREATED:20251116T155050Z
LAST-MODIFIED:20251116T155050Z
UID:19331-1795996800-1797033599@expertise-plus.com
SUMMARY:Contrôle Interne dans les Projets de Développement : Conformité aux Normes des Bailleurs de Fonds
DESCRIPTION:Contrôle Interne dans les Projets de Développement : Conformité aux Normes des Bailleurs de Fonds
URL:http://expertise-plus.com/formations/controle-interne-dans-les-projets-de-developpement-conformite-aux-normes-des-bailleurs-de-fonds-2/
LOCATION:Abidjan\, Abidjan\, Côte d'Ivoire
CATEGORIES:Management des projets,Séminaires transversaux
END:VEVENT
BEGIN:VEVENT
DTSTART;VALUE=DATE:20261130
DTEND;VALUE=DATE:20261212
DTSTAMP:20260424T160540
CREATED:20251116T161513Z
LAST-MODIFIED:20251116T161513Z
UID:19412-1795996800-1797033599@expertise-plus.com
SUMMARY:Rôle des parlementaires dans la budgétisation en mode programme
DESCRIPTION:Rôle des parlementaires dans la budgétisation en mode programme
URL:http://expertise-plus.com/formations/role-des-parlementaires-dans-la-budgetisation-en-mode-programme-2/
LOCATION:Montréal
CATEGORIES:Management des projets,Séminaires transversaux
END:VEVENT
END:VCALENDAR