BEGIN:VCALENDAR
VERSION:2.0
PRODID:-//Expertise-Plus - ECPv6.15.11//NONSGML v1.0//EN
CALSCALE:GREGORIAN
METHOD:PUBLISH
X-WR-CALNAME:Expertise-Plus
X-ORIGINAL-URL:https://expertise-plus.com
X-WR-CALDESC:Évènements pour Expertise-Plus
REFRESH-INTERVAL;VALUE=DURATION:PT1H
X-Robots-Tag:noindex
X-PUBLISHED-TTL:PT1H
BEGIN:VTIMEZONE
TZID:UTC
BEGIN:STANDARD
TZOFFSETFROM:+0000
TZOFFSETTO:+0000
TZNAME:UTC
DTSTART:20250101T000000
END:STANDARD
END:VTIMEZONE
BEGIN:VEVENT
DTSTART;VALUE=DATE:20260413
DTEND;VALUE=DATE:20260425
DTSTAMP:20260422T045245
CREATED:20251114T130952Z
LAST-MODIFIED:20251114T130952Z
UID:18710-1776038400-1777075199@expertise-plus.com
SUMMARY:Rôles et enjeux des collectivités territoriales
DESCRIPTION:Rôles et enjeux des collectivités territoriales
URL:https://expertise-plus.com/formations/roles-et-enjeux-des-collectivites-territoriales/
LOCATION:Lomé\, Lomé\, Togo
CATEGORIES:Aménagement urbain et développement des territoires,Séminaires sectoriels
END:VEVENT
BEGIN:VEVENT
DTSTART;VALUE=DATE:20260413
DTEND;VALUE=DATE:20260425
DTSTAMP:20260422T045245
CREATED:20251114T133633Z
LAST-MODIFIED:20251114T133633Z
UID:18766-1776038400-1777075199@expertise-plus.com
SUMMARY:Automatisation des Processus Miniers grâce à l'IA
DESCRIPTION:Automatisation des Processus Miniers grâce à l’IA
URL:https://expertise-plus.com/formations/automatisation-des-processus-miniers-grace-a-lia/
LOCATION:Lomé\, Lomé\, Togo
CATEGORIES:Mines,Séminaires sectoriels
END:VEVENT
BEGIN:VEVENT
DTSTART;VALUE=DATE:20260413
DTEND;VALUE=DATE:20260425
DTSTAMP:20260422T045245
CREATED:20251114T144817Z
LAST-MODIFIED:20251114T144817Z
UID:18810-1776038400-1777075199@expertise-plus.com
SUMMARY:Intelligence Artificielle pour la Vision par Ordinateur
DESCRIPTION:Intelligence Artificielle pour la Vision par Ordinateur
URL:https://expertise-plus.com/formations/intelligence-artificielle-pour-la-vision-par-ordinateur/
LOCATION:Lomé\, Lomé\, Togo
CATEGORIES:Séminaires sectoriels,Systèmes d'information
END:VEVENT
BEGIN:VEVENT
DTSTART;VALUE=DATE:20260413
DTEND;VALUE=DATE:20260425
DTSTAMP:20260422T045245
CREATED:20251114T150912Z
LAST-MODIFIED:20251114T150912Z
UID:18872-1776038400-1777075199@expertise-plus.com
SUMMARY:Prévision et Gestion des Crises liées à l'Eau : Inondations et Sécheresses
DESCRIPTION:Prévision et Gestion des Crises liées à l’Eau : Inondations et Sécheresses
URL:https://expertise-plus.com/formations/prevision-et-gestion-des-crises-liees-a-leau-inondations-et-secheresses/
LOCATION:Lomé\, Lomé\, Togo
CATEGORIES:Agriculture, eau et assainissement,Séminaires sectoriels
END:VEVENT
BEGIN:VEVENT
DTSTART;VALUE=DATE:20260413
DTEND;VALUE=DATE:20260425
DTSTAMP:20260422T045245
CREATED:20251114T153917Z
LAST-MODIFIED:20251114T153917Z
UID:18935-1776038400-1777075199@expertise-plus.com
SUMMARY:Simulation de la réforme du régime de pensions
DESCRIPTION:Simulation de la réforme du régime de pensions
URL:https://expertise-plus.com/formations/simulation-de-la-reforme-du-regime-de-pensions/
LOCATION:Lomé\, Lomé\, Togo
CATEGORIES:Banques, Assurances et Caisses de retraites,Séminaires sectoriels
END:VEVENT
BEGIN:VEVENT
DTSTART;VALUE=DATE:20260413
DTEND;VALUE=DATE:20260425
DTSTAMP:20260422T045245
CREATED:20251114T155305Z
LAST-MODIFIED:20251114T155305Z
UID:18983-1776038400-1777075199@expertise-plus.com
SUMMARY:Évaluation du risque bancaire dans le secteur professionnel
DESCRIPTION:Évaluation du risque bancaire dans le secteur professionnel
URL:https://expertise-plus.com/formations/evaluation-du-risque-bancaire-dans-le-secteur-professionnel/
LOCATION:Lomé\, Lomé\, Togo
CATEGORIES:Banques, Assurances et Caisses de retraites,Séminaires sectoriels
END:VEVENT
BEGIN:VEVENT
DTSTART;VALUE=DATE:20260413
DTEND;VALUE=DATE:20260425
DTSTAMP:20260422T045245
CREATED:20251114T160657Z
LAST-MODIFIED:20251114T160657Z
UID:19040-1776038400-1777075199@expertise-plus.com
SUMMARY:Comptabilité des opérations de marché : Produits dérivés et autres instruments financiers
DESCRIPTION:Comptabilité des opérations de marché : Produits dérivés et autres instruments financiers
URL:https://expertise-plus.com/formations/comptabilite-des-operations-de-marche-produits-derives-et-autres-instruments-financiers-2/
LOCATION:Lomé\, Lomé\, Togo
CATEGORIES:Banques, Assurances et Caisses de retraites,Séminaires sectoriels
END:VEVENT
BEGIN:VEVENT
DTSTART;VALUE=DATE:20260413
DTEND;VALUE=DATE:20260425
DTSTAMP:20260422T045245
CREATED:20251115T021434Z
LAST-MODIFIED:20251115T021434Z
UID:19176-1776038400-1777075199@expertise-plus.com
SUMMARY:Organisation du Collège des Délégués du Personnel : Meilleures Pratiques et Pacification des Relations Sociales
DESCRIPTION:Organisation du Collège des Délégués du Personnel : Meilleures Pratiques et Pacification des Relations Sociales
URL:https://expertise-plus.com/formations/organisation-du-college-des-delegues-du-personnel-meilleures-pratiques-et-pacification-des-relations-sociales/
LOCATION:Lomé\, Lomé\, Togo
CATEGORIES:Gestion des ressources humaines,Séminaires fonctionnels
END:VEVENT
BEGIN:VEVENT
DTSTART;VALUE=DATE:20260413
DTEND;VALUE=DATE:20260425
DTSTAMP:20260422T045245
CREATED:20251115T022758Z
LAST-MODIFIED:20251115T022758Z
UID:19229-1776038400-1777075199@expertise-plus.com
SUMMARY:Négociation avec les partenaires sociaux : Les aspects juridiques\, tactiques et comportementaux
DESCRIPTION:Négociation avec les partenaires sociaux : Les aspects juridiques\, tactiques et comportementaux
URL:https://expertise-plus.com/formations/negociation-avec-les-partenaires-sociaux-les-aspects-juridiques-tactiques-et-comportementaux/
LOCATION:Casablanca\, Casablanca\, Morocco
CATEGORIES:Gestion des ressources humaines,Séminaires fonctionnels
END:VEVENT
BEGIN:VEVENT
DTSTART;VALUE=DATE:20260413
DTEND;VALUE=DATE:20260425
DTSTAMP:20260422T045245
CREATED:20251116T153922Z
LAST-MODIFIED:20251116T153922Z
UID:19292-1776038400-1777075199@expertise-plus.com
SUMMARY:La gestion de la performance de projet à l’ère de l’IA
DESCRIPTION:La gestion de la performance de projet à l’ère de l’IA
URL:https://expertise-plus.com/formations/la-gestion-de-la-performance-de-projet-a-lere-de-lia/
LOCATION:Montréal
CATEGORIES:Management des projets,Séminaires transversaux
END:VEVENT
BEGIN:VEVENT
DTSTART;VALUE=DATE:20260413
DTEND;VALUE=DATE:20260425
DTSTAMP:20260422T045245
CREATED:20251116T160437Z
LAST-MODIFIED:20251116T160437Z
UID:19379-1776038400-1777075199@expertise-plus.com
SUMMARY:Concevoir et piloter les tableaux de bord budgétaires
DESCRIPTION:Concevoir et piloter les tableaux de bord budgétaires
URL:https://expertise-plus.com/formations/concevoir-et-piloter-les-tableaux-de-bord-budgetaires/
LOCATION:Abidjan\, Abidjan\, Côte d'Ivoire
CATEGORIES:Management des projets,Séminaires transversaux
END:VEVENT
BEGIN:VEVENT
DTSTART;VALUE=DATE:20260413
DTEND;VALUE=DATE:20260425
DTSTAMP:20260422T045245
CREATED:20251116T162317Z
LAST-MODIFIED:20251116T162317Z
UID:19434-1776038400-1777075199@expertise-plus.com
SUMMARY:Gestion des Investissements Publics
DESCRIPTION:Gestion des Investissements Publics
URL:https://expertise-plus.com/formations/gestion-des-investissements-publics/
LOCATION:Abidjan\, Abidjan\, Côte d'Ivoire
CATEGORIES:Management des projets,Séminaires transversaux
END:VEVENT
BEGIN:VEVENT
DTSTART;VALUE=DATE:20260413
DTEND;VALUE=DATE:20260425
DTSTAMP:20260422T045245
CREATED:20251116T164844Z
LAST-MODIFIED:20251116T164844Z
UID:19491-1776038400-1777075199@expertise-plus.com
SUMMARY:Exécution des marchés publics
DESCRIPTION:Exécution des marchés publics
URL:https://expertise-plus.com/formations/execution-des-marches-publics/
LOCATION:Lomé\, Lomé\, Togo
CATEGORIES:Commande publique,Séminaires transversaux
END:VEVENT
BEGIN:VEVENT
DTSTART;VALUE=DATE:20260413
DTEND;VALUE=DATE:20260425
DTSTAMP:20260422T045245
CREATED:20251116T170448Z
LAST-MODIFIED:20251116T170448Z
UID:19538-1776038400-1777075199@expertise-plus.com
SUMMARY:Gestion des Contrats et Décaissements dans les Marchés Publics
DESCRIPTION:Gestion des Contrats et Décaissements dans les Marchés Publics
URL:https://expertise-plus.com/formations/gestion-des-contrats-et-decaissements-dans-les-marches-publics/
LOCATION:Casablanca\, Casablanca\, Morocco
CATEGORIES:Commande publique,Séminaires transversaux
END:VEVENT
BEGIN:VEVENT
DTSTART;VALUE=DATE:20260413
DTEND;VALUE=DATE:20260425
DTSTAMP:20260422T045245
CREATED:20251116T171405Z
LAST-MODIFIED:20251116T171405Z
UID:19562-1776038400-1777075199@expertise-plus.com
SUMMARY:Gestion des Documents Sensibles et Confidentialité grâce à l'IA
DESCRIPTION:Gestion des Documents Sensibles et Confidentialité grâce à l’IA
URL:https://expertise-plus.com/formations/gestion-des-documents-sensibles-et-confidentialite-grace-a-lia/
LOCATION:Lomé\, Lomé\, Togo
CATEGORIES:Archivage et gestion électronique des documents,Séminaires transversaux
END:VEVENT
BEGIN:VEVENT
DTSTART;VALUE=DATE:20260414
DTEND;VALUE=DATE:20260426
DTSTAMP:20260422T045245
CREATED:20251116T155154Z
LAST-MODIFIED:20251116T155154Z
UID:19334-1776124800-1777161599@expertise-plus.com
SUMMARY:Mise en Place d'un Projet Management Office : Outils et Méthodes Efficaces
DESCRIPTION:Mise en Place d’un Projet Management Office : Outils et Méthodes Efficaces
URL:https://expertise-plus.com/formations/mise-en-place-dun-projet-management-office-outils-et-methodes-efficaces/
LOCATION:Ouagadougou\, Ouagadougou\, Burkina Faso
CATEGORIES:Management des projets,Séminaires transversaux
END:VEVENT
BEGIN:VEVENT
DTSTART;VALUE=DATE:20260420
DTEND;VALUE=DATE:20260430
DTSTAMP:20260422T045245
CREATED:20251115T015627Z
LAST-MODIFIED:20251115T015627Z
UID:19115-1776643200-1777507199@expertise-plus.com
SUMMARY:Diplomatie et Négociations Stratégiques : Nouveaux Défis et Techniques
DESCRIPTION:Diplomatie et Négociations Stratégiques : Nouveaux Défis et Techniques
URL:https://expertise-plus.com/formations/diplomatie-et-negociations-strategiques-nouveaux-defis-et-techniques/
LOCATION:Dakar\, Sénégal
CATEGORIES:Communication, Relations et Protocole,Séminaires fonctionnels
END:VEVENT
BEGIN:VEVENT
DTSTART;VALUE=DATE:20260427
DTEND;VALUE=DATE:20260508
DTSTAMP:20260422T045245
CREATED:20251114T123908Z
LAST-MODIFIED:20251114T123908Z
UID:18702-1777248000-1778198399@expertise-plus.com
SUMMARY:Cadre juridique régissant le partenariat
DESCRIPTION:
URL:https://expertise-plus.com/formations/cadre-juridique-regissant-le-partenariat/
LOCATION:Abidjan\, Abidjan\, Côte d'Ivoire
CATEGORIES:Aménagement urbain et développement des territoires,Séminaires sectoriels
END:VEVENT
BEGIN:VEVENT
DTSTART;VALUE=DATE:20260427
DTEND;VALUE=DATE:20260508
DTSTAMP:20260422T045245
CREATED:20251114T133736Z
LAST-MODIFIED:20251114T133736Z
UID:18769-1777248000-1778198399@expertise-plus.com
SUMMARY:Gestion des Risques et des Catastrophes Minières avec l'IA
DESCRIPTION:Gestion des Risques et des Catastrophes Minières avec l’IA
URL:https://expertise-plus.com/formations/gestion-des-risques-et-des-catastrophes-minieres-avec-lia/
LOCATION:Abidjan\, Abidjan\, Côte d'Ivoire
CATEGORIES:Mines,Séminaires sectoriels
END:VEVENT
BEGIN:VEVENT
DTSTART;VALUE=DATE:20260427
DTEND;VALUE=DATE:20260508
DTSTAMP:20260422T045245
CREATED:20251114T144554Z
LAST-MODIFIED:20251114T144554Z
UID:18803-1777248000-1778198399@expertise-plus.com
SUMMARY:Conception d'ensemble des SI
DESCRIPTION:Conception d’ensemble des SI
URL:https://expertise-plus.com/formations/conception-densemble-des-si/
LOCATION:Abidjan\, Abidjan\, Côte d'Ivoire
CATEGORIES:Séminaires sectoriels,Systèmes d'information
END:VEVENT
BEGIN:VEVENT
DTSTART;VALUE=DATE:20260427
DTEND;VALUE=DATE:20260508
DTSTAMP:20260422T045245
CREATED:20251114T150718Z
LAST-MODIFIED:20251114T150718Z
UID:18866-1777248000-1778198399@expertise-plus.com
SUMMARY:Optimisation de l'Irrigation avec l'IA
DESCRIPTION:Optimisation de l’Irrigation avec l’IA
URL:https://expertise-plus.com/formations/optimisation-de-lirrigation-avec-lia/
LOCATION:Abidjan\, Abidjan\, Côte d'Ivoire
CATEGORIES:Agriculture, eau et assainissement,Séminaires sectoriels
END:VEVENT
BEGIN:VEVENT
DTSTART;VALUE=DATE:20260427
DTEND;VALUE=DATE:20260508
DTSTAMP:20260422T045245
CREATED:20251114T153758Z
LAST-MODIFIED:20251114T153758Z
UID:18929-1777248000-1778198399@expertise-plus.com
SUMMARY:Modalités de transfert des droits de pension
DESCRIPTION:Modalités de transfert des droits de pension
URL:https://expertise-plus.com/formations/modalites-de-transfert-des-droits-de-pension/
LOCATION:Abidjan\, Abidjan\, Côte d'Ivoire
CATEGORIES:Banques, Assurances et Caisses de retraites,Séminaires sectoriels
END:VEVENT
BEGIN:VEVENT
DTSTART;VALUE=DATE:20260427
DTEND;VALUE=DATE:20260508
DTSTAMP:20260422T045245
CREATED:20251114T155146Z
LAST-MODIFIED:20251114T155146Z
UID:18977-1777248000-1778198399@expertise-plus.com
SUMMARY:Pilotage de l'activité bancaire : Stratégie et efficacité commerciale
DESCRIPTION:Pilotage de l’activité bancaire : Stratégie et efficacité commerciale
URL:https://expertise-plus.com/formations/pilotage-de-lactivite-bancaire-strategie-et-efficacite-commerciale/
LOCATION:Abidjan\, Abidjan\, Côte d'Ivoire
CATEGORIES:Banques, Assurances et Caisses de retraites,Séminaires sectoriels
END:VEVENT
BEGIN:VEVENT
DTSTART;VALUE=DATE:20260427
DTEND;VALUE=DATE:20260508
DTSTAMP:20260422T045245
CREATED:20251114T160727Z
LAST-MODIFIED:20251114T160727Z
UID:19043-1777248000-1778198399@expertise-plus.com
SUMMARY:Réglementation des prêts : Évolutions récentes et implications pour les banques
DESCRIPTION:Réglementation des prêts : Évolutions récentes et implications pour les banques
URL:https://expertise-plus.com/formations/reglementation-des-prets-evolutions-recentes-et-implications-pour-les-banques/
LOCATION:Abidjan\, Abidjan\, Côte d'Ivoire
CATEGORIES:Banques, Assurances et Caisses de retraites,Séminaires sectoriels
END:VEVENT
BEGIN:VEVENT
DTSTART;VALUE=DATE:20260427
DTEND;VALUE=DATE:20260509
DTSTAMP:20260422T045245
CREATED:20251115T021304Z
LAST-MODIFIED:20251115T021304Z
UID:19169-1777248000-1778284799@expertise-plus.com
SUMMARY:Gestion de la Rémunération et Pilotage de la Masse Salariale : Défis Actuels
DESCRIPTION:Gestion de la Rémunération et Pilotage de la Masse Salariale : Défis Actuels
URL:https://expertise-plus.com/formations/gestion-de-la-remuneration-et-pilotage-de-la-masse-salariale-defis-actuels/
LOCATION:Abidjan\, Abidjan\, Côte d'Ivoire
CATEGORIES:Gestion des ressources humaines,Séminaires fonctionnels
END:VEVENT
BEGIN:VEVENT
DTSTART;VALUE=DATE:20260427
DTEND;VALUE=DATE:20260508
DTSTAMP:20260422T045245
CREATED:20251115T022842Z
LAST-MODIFIED:20251115T022842Z
UID:19232-1777248000-1778198399@expertise-plus.com
SUMMARY:Les Inventions de salariés : Prévenir et maitriser les contentieux Les modes de ruptures du contrat de travail
DESCRIPTION:Les Inventions de salariés : Prévenir et maitriser les contentieux Les modes de ruptures du contrat de travail
URL:https://expertise-plus.com/formations/les-inventions-de-salaries-prevenir-et-maitriser-les-contentieux-les-modes-de-ruptures-du-contrat-de-travail/
LOCATION:Ouagadougou\, Ouagadougou\, Burkina Faso
CATEGORIES:Gestion des ressources humaines,Séminaires fonctionnels
END:VEVENT
BEGIN:VEVENT
DTSTART;VALUE=DATE:20260427
DTEND;VALUE=DATE:20260508
DTSTAMP:20260422T045245
CREATED:20251116T154028Z
LAST-MODIFIED:20251116T154028Z
UID:19295-1777248000-1778198399@expertise-plus.com
SUMMARY:Planification et estimation des coûts de projet avec l’IA
DESCRIPTION:Planification et estimation des coûts de projet avec l’IA
URL:https://expertise-plus.com/formations/planification-et-estimation-des-couts-de-projet-avec-lia/
LOCATION:Abidjan\, Abidjan\, Côte d'Ivoire
CATEGORIES:Management des projets,Séminaires transversaux
END:VEVENT
BEGIN:VEVENT
DTSTART;VALUE=DATE:20260427
DTEND;VALUE=DATE:20260508
DTSTAMP:20260422T045245
CREATED:20251116T160307Z
LAST-MODIFIED:20251116T160307Z
UID:19373-1777248000-1778198399@expertise-plus.com
SUMMARY:Gestion des financements extérieurs et des investissements
DESCRIPTION:Gestion des financements extérieurs et des investissements
URL:https://expertise-plus.com/formations/gestion-des-financements-exterieurs-et-des-investissements/
LOCATION:Casablanca\, Casablanca\, Morocco
CATEGORIES:Management des projets,Séminaires transversaux
END:VEVENT
BEGIN:VEVENT
DTSTART;VALUE=DATE:20260427
DTEND;VALUE=DATE:20260508
DTSTAMP:20260422T045245
CREATED:20251116T162353Z
LAST-MODIFIED:20251116T162353Z
UID:19437-1777248000-1778198399@expertise-plus.com
SUMMARY:Contrôle interne et audit des Finances Publiques
DESCRIPTION:Contrôle interne et audit des Finances Publiques
URL:https://expertise-plus.com/formations/controle-interne-et-audit-des-finances-publiques/
LOCATION:Ouagadougou\, Ouagadougou\, Burkina Faso
CATEGORIES:Management des projets,Séminaires transversaux
END:VEVENT
BEGIN:VEVENT
DTSTART;VALUE=DATE:20260427
DTEND;VALUE=DATE:20260509
DTSTAMP:20260422T045245
CREATED:20251116T164233Z
LAST-MODIFIED:20251116T164233Z
UID:19484-1777248000-1778284799@expertise-plus.com
SUMMARY:Passation et l'exécution des marchés selon les nouvelles procédures des bailleurs
DESCRIPTION:Passation et l’exécution des marchés selon les nouvelles procédures des bailleurs
URL:https://expertise-plus.com/formations/passation-et-lexecution-des-marches-selon-les-nouvelles-procedures-des-bailleurs/
LOCATION:Abidjan\, Abidjan\, Côte d'Ivoire
CATEGORIES:Commande publique,Séminaires transversaux
END:VEVENT
END:VCALENDAR