BEGIN:VCALENDAR
VERSION:2.0
PRODID:-//Expertise-Plus - ECPv6.15.11//NONSGML v1.0//EN
CALSCALE:GREGORIAN
METHOD:PUBLISH
X-ORIGINAL-URL:https://expertise-plus.com
X-WR-CALDESC:Évènements pour Expertise-Plus
REFRESH-INTERVAL;VALUE=DURATION:PT1H
X-Robots-Tag:noindex
X-PUBLISHED-TTL:PT1H
BEGIN:VTIMEZONE
TZID:UTC
BEGIN:STANDARD
TZOFFSETFROM:+0000
TZOFFSETTO:+0000
TZNAME:UTC
DTSTART:20250101T000000
END:STANDARD
END:VTIMEZONE
BEGIN:VEVENT
DTSTART;VALUE=DATE:20260504
DTEND;VALUE=DATE:20260516
DTSTAMP:20260424T135059
CREATED:20251115T015659Z
LAST-MODIFIED:20251115T015659Z
UID:19118-1777852800-1778889599@expertise-plus.com
SUMMARY:Élaboration du Rapport de Développement Durable : Normes et Exigences Actuelles (GRI)
DESCRIPTION:Élaboration du Rapport de Développement Durable : Normes et Exigences Actuelles (GRI)
URL:https://expertise-plus.com/formations/elaboration-du-rapport-de-developpement-durable-normes-et-exigences-actuelles-gri/
LOCATION:Casablanca\, Casablanca\, Morocco
CATEGORIES:Communication, Relations et Protocole,Séminaires fonctionnels
END:VEVENT
END:VCALENDAR