BEGIN:VCALENDAR
VERSION:2.0
PRODID:-//Expertise-Plus - ECPv6.15.11//NONSGML v1.0//EN
CALSCALE:GREGORIAN
METHOD:PUBLISH
X-WR-CALNAME:Expertise-Plus
X-ORIGINAL-URL:https://expertise-plus.com
X-WR-CALDESC:Évènements pour Expertise-Plus
REFRESH-INTERVAL;VALUE=DURATION:PT1H
X-Robots-Tag:noindex
X-PUBLISHED-TTL:PT1H
BEGIN:VTIMEZONE
TZID:UTC
BEGIN:STANDARD
TZOFFSETFROM:+0000
TZOFFSETTO:+0000
TZNAME:UTC
DTSTART:20250101T000000
END:STANDARD
END:VTIMEZONE
BEGIN:VEVENT
DTSTART;VALUE=DATE:20260223
DTEND;VALUE=DATE:20260307
DTSTAMP:20260424T155619
CREATED:20251115T021225Z
LAST-MODIFIED:20251115T021225Z
UID:19166-1771804800-1772841599@expertise-plus.com
SUMMARY:Construire une GPEC Performante et Opérationnelle : Méthodes et Outils Actuels
DESCRIPTION:Construire une GPEC Performante et Opérationnelle : Méthodes et Outils Actuels
URL:https://expertise-plus.com/formations/construire-une-gpec-performante-et-operationnelle-methodes-et-outils-actuels/
LOCATION:Ouagadougou\, Ouagadougou\, Burkina Faso
CATEGORIES:Gestion des ressources humaines,Séminaires fonctionnels
END:VEVENT
END:VCALENDAR