BEGIN:VCALENDAR
VERSION:2.0
PRODID:-//Expertise-Plus - ECPv6.15.11//NONSGML v1.0//EN
CALSCALE:GREGORIAN
METHOD:PUBLISH
X-WR-CALNAME:Expertise-Plus
X-ORIGINAL-URL:https://expertise-plus.com
X-WR-CALDESC:Évènements pour Expertise-Plus
REFRESH-INTERVAL;VALUE=DURATION:PT1H
X-Robots-Tag:noindex
X-PUBLISHED-TTL:PT1H
BEGIN:VTIMEZONE
TZID:UTC
BEGIN:STANDARD
TZOFFSETFROM:+0000
TZOFFSETTO:+0000
TZNAME:UTC
DTSTART:20250101T000000
END:STANDARD
END:VTIMEZONE
BEGIN:VEVENT
DTSTART;VALUE=DATE:20260601
DTEND;VALUE=DATE:20260613
DTSTAMP:20260423T121622
CREATED:20251115T023255Z
LAST-MODIFIED:20251115T023255Z
UID:19250-1780272000-1781308799@expertise-plus.com
SUMMARY:Management et conduite du changement
DESCRIPTION:Management et conduite du changement
URL:https://expertise-plus.com/formations/management-et-conduite-du-changement/
LOCATION:Marrakech
CATEGORIES:Gestion des ressources humaines,Séminaires fonctionnels
END:VEVENT
BEGIN:VEVENT
DTSTART;VALUE=DATE:20260608
DTEND;VALUE=DATE:20260620
DTSTAMP:20260423T121622
CREATED:20251115T022401Z
LAST-MODIFIED:20251115T022401Z
UID:19214-1780876800-1781913599@expertise-plus.com
SUMMARY:La gestion prévisionnelle des emplois et des compétences Comment élaborer une ingénierie de formation
DESCRIPTION:La gestion prévisionnelle des emplois et des compétences Comment élaborer une ingénierie de formation
URL:https://expertise-plus.com/formations/la-gestion-previsionnelle-des-emplois-et-des-competences-comment-elaborer-une-ingenierie-de-formation/
LOCATION:Abidjan\, Abidjan\, Côte d'Ivoire
CATEGORIES:Gestion des ressources humaines,Séminaires fonctionnels
END:VEVENT
BEGIN:VEVENT
DTSTART;VALUE=DATE:20260615
DTEND;VALUE=DATE:20260627
DTSTAMP:20260423T121622
CREATED:20251115T022015Z
LAST-MODIFIED:20251115T022015Z
UID:19199-1781481600-1782518399@expertise-plus.com
SUMMARY:Gestion des Talents et Planification de Carrière avec l'IA
DESCRIPTION:Gestion des Talents et Planification de Carrière avec l’IA
URL:https://expertise-plus.com/formations/gestion-des-talents-et-planification-de-carriere-avec-lia/
LOCATION:Montréal
CATEGORIES:Gestion des ressources humaines,Séminaires fonctionnels
END:VEVENT
BEGIN:VEVENT
DTSTART;VALUE=DATE:20260622
DTEND;VALUE=DATE:20260704
DTSTAMP:20260423T121622
CREATED:20251115T023337Z
LAST-MODIFIED:20251115T023337Z
UID:19253-1782086400-1783123199@expertise-plus.com
SUMMARY:Manager et performer efficacement en télétravail
DESCRIPTION:Manager et performer efficacement en télétravail
URL:https://expertise-plus.com/formations/manager-et-performer-efficacement-en-teletravail/
LOCATION:Casablanca\, Casablanca\, Morocco
CATEGORIES:Gestion des ressources humaines,Séminaires fonctionnels
END:VEVENT
BEGIN:VEVENT
DTSTART;VALUE=DATE:20260706
DTEND;VALUE=DATE:20260718
DTSTAMP:20260423T121622
CREATED:20251115T022321Z
LAST-MODIFIED:20251115T022321Z
UID:19211-1783296000-1784332799@expertise-plus.com
SUMMARY:Gestion de la paie : Traitement des aspects juridiques et fiscaux Mise en place des outils de reporting RH
DESCRIPTION:Gestion de la paie : Traitement des aspects juridiques et fiscaux Mise en place des outils de reporting RH
URL:https://expertise-plus.com/formations/gestion-de-la-paie-traitement-des-aspects-juridiques-et-fiscaux-mise-en-place-des-outils-de-reporting-rh/
LOCATION:Dakar\, Sénégal
CATEGORIES:Gestion des ressources humaines,Séminaires fonctionnels
END:VEVENT
BEGIN:VEVENT
DTSTART;VALUE=DATE:20260713
DTEND;VALUE=DATE:20260725
DTSTAMP:20260423T121622
CREATED:20251115T022155Z
LAST-MODIFIED:20251115T022155Z
UID:19205-1783900800-1784937599@expertise-plus.com
SUMMARY:Transformation de la Culture d’Entreprise grâce à l’IA
DESCRIPTION:Transformation de la Culture d’Entreprise grâce à l’IA
URL:https://expertise-plus.com/formations/transformation-de-la-culture-dentreprise-grace-a-lia/
LOCATION:Casablanca\, Casablanca\, Morocco
CATEGORIES:Gestion des ressources humaines,Séminaires fonctionnels
END:VEVENT
BEGIN:VEVENT
DTSTART;VALUE=DATE:20260713
DTEND;VALUE=DATE:20260725
DTSTAMP:20260423T121622
CREATED:20251115T023430Z
LAST-MODIFIED:20251115T023430Z
UID:19256-1783900800-1784937599@expertise-plus.com
SUMMARY:Cummunication et gestion des Equipes
DESCRIPTION:Cummunication et gestion des Equipes
URL:https://expertise-plus.com/formations/cummunication-et-gestion-des-equipes/
LOCATION:Marrakech
CATEGORIES:Gestion des ressources humaines,Séminaires fonctionnels
END:VEVENT
BEGIN:VEVENT
DTSTART;VALUE=DATE:20260810
DTEND;VALUE=DATE:20260822
DTSTAMP:20260423T121622
CREATED:20251115T021932Z
LAST-MODIFIED:20251115T021932Z
UID:19196-1786320000-1787356799@expertise-plus.com
SUMMARY:Automatisation de la Gestion des Conflits et des Relations Interpersonnelles
DESCRIPTION:Automatisation de la Gestion des Conflits et des Relations Interpersonnelles
URL:https://expertise-plus.com/formations/automatisation-de-la-gestion-des-conflits-et-des-relations-interpersonnelles-2/
LOCATION:Abidjan\, Abidjan\, Côte d'Ivoire
CATEGORIES:Gestion des ressources humaines,Séminaires fonctionnels
END:VEVENT
BEGIN:VEVENT
DTSTART;VALUE=DATE:20260810
DTEND;VALUE=DATE:20260822
DTSTAMP:20260423T121622
CREATED:20251115T022524Z
LAST-MODIFIED:20251115T022524Z
UID:19220-1786320000-1787356799@expertise-plus.com
SUMMARY:L'audit sociale : Evaluation des risques et outils stratégiques Maîtriser les aspects juridiques du détachement des salariés
DESCRIPTION:L’audit sociale : Evaluation des risques et outils stratégiques Maîtriser les aspects juridiques du détachement des salariés
URL:https://expertise-plus.com/formations/laudit-sociale-evaluation-des-risques-et-outils-strategiques-maitriser-les-aspects-juridiques-du-detachement-des-salaries-2/
LOCATION:Casablanca\, Casablanca\, Morocco
CATEGORIES:Gestion des ressources humaines,Séminaires fonctionnels
END:VEVENT
BEGIN:VEVENT
DTSTART;VALUE=DATE:20260921
DTEND;VALUE=DATE:20261003
DTSTAMP:20260423T121622
CREATED:20251115T021516Z
LAST-MODIFIED:20251115T021516Z
UID:19179-1789948800-1790985599@expertise-plus.com
SUMMARY:Recrutement et Sélection Automatisés : Optimiser le Processus avec l'IA
DESCRIPTION:Recrutement et Sélection Automatisés : Optimiser le Processus avec l’IA
URL:https://expertise-plus.com/formations/recrutement-et-selection-automatises-optimiser-le-processus-avec-lia-2/
LOCATION:Casablanca\, Casablanca\, Morocco
CATEGORIES:Gestion des ressources humaines,Séminaires fonctionnels
END:VEVENT
BEGIN:VEVENT
DTSTART;VALUE=DATE:20260928
DTEND;VALUE=DATE:20261010
DTSTAMP:20260423T121622
CREATED:20251115T021556Z
LAST-MODIFIED:20251115T021556Z
UID:19181-1790553600-1791590399@expertise-plus.com
SUMMARY:Formation et Développement Personnel : Personnalisation avec l'IA
DESCRIPTION:Formation et Développement Personnel : Personnalisation avec l’IA
URL:https://expertise-plus.com/formations/formation-et-developpement-personnel-personnalisation-avec-lia-2/
LOCATION:Abidjan\, Abidjan\, Côte d'Ivoire
CATEGORIES:Gestion des ressources humaines,Séminaires fonctionnels
END:VEVENT
BEGIN:VEVENT
DTSTART;VALUE=DATE:20261005
DTEND;VALUE=DATE:20261017
DTSTAMP:20260423T121623
CREATED:20251115T021643Z
LAST-MODIFIED:20251115T021643Z
UID:19184-1791158400-1792195199@expertise-plus.com
SUMMARY:Gestion de la Performance des Employés
DESCRIPTION:Gestion de la Performance des Employés
URL:https://expertise-plus.com/formations/gestion-de-la-performance-des-employes-2/
LOCATION:Lomé\, Lomé\, Togo
CATEGORIES:Gestion des ressources humaines,Séminaires fonctionnels
END:VEVENT
BEGIN:VEVENT
DTSTART;VALUE=DATE:20261005
DTEND;VALUE=DATE:20261017
DTSTAMP:20260423T121623
CREATED:20251115T022055Z
LAST-MODIFIED:20251115T022055Z
UID:19202-1791158400-1792195199@expertise-plus.com
SUMMARY:Bien-être des Employés : Suivi et Soutien Personnalisés avec l'IA
DESCRIPTION:Bien-être des Employés : Suivi et Soutien Personnalisés avec l’IA
URL:https://expertise-plus.com/formations/bien-etre-des-employes-suivi-et-soutien-personnalises-avec-lia-2/
LOCATION:Montréal
CATEGORIES:Gestion des ressources humaines,Séminaires fonctionnels
END:VEVENT
BEGIN:VEVENT
DTSTART;VALUE=DATE:20261012
DTEND;VALUE=DATE:20261024
DTSTAMP:20260423T121623
CREATED:20251115T021727Z
LAST-MODIFIED:20251115T021727Z
UID:19187-1791763200-1792799999@expertise-plus.com
SUMMARY:Engagement des Employés : Mesure et Amélioration à l'Aide de l'IA
DESCRIPTION:Engagement des Employés : Mesure et Amélioration à l’Aide de l’IA
URL:https://expertise-plus.com/formations/engagement-des-employes-mesure-et-amelioration-a-laide-de-lia-3/
LOCATION:Marrakech
CATEGORIES:Gestion des ressources humaines,Séminaires fonctionnels
END:VEVENT
BEGIN:VEVENT
DTSTART;VALUE=DATE:20261019
DTEND;VALUE=DATE:20261031
DTSTAMP:20260423T121623
CREATED:20251115T021819Z
LAST-MODIFIED:20251115T021819Z
UID:19190-1792368000-1793404799@expertise-plus.com
SUMMARY:Gestion de la Paie et des Avantages Sociaux avec l'IA
DESCRIPTION:Gestion de la Paie et des Avantages Sociaux avec l’IA
URL:https://expertise-plus.com/formations/gestion-de-la-paie-et-des-avantages-sociaux-avec-lia/
LOCATION:Marrakech
CATEGORIES:Gestion des ressources humaines,Séminaires fonctionnels
END:VEVENT
BEGIN:VEVENT
DTSTART;VALUE=DATE:20261026
DTEND;VALUE=DATE:20261107
DTSTAMP:20260423T121623
CREATED:20251115T021854Z
LAST-MODIFIED:20251115T021854Z
UID:19193-1792972800-1794009599@expertise-plus.com
SUMMARY:Prédiction des Besoins en Personnel : Planification Stratégique avec l'IA
DESCRIPTION:Prédiction des Besoins en Personnel : Planification Stratégique avec l’IA
URL:https://expertise-plus.com/formations/prediction-des-besoins-en-personnel-planification-strategique-avec-lia-2/
LOCATION:Dakar\, Sénégal
CATEGORIES:Gestion des ressources humaines,Séminaires fonctionnels
END:VEVENT
BEGIN:VEVENT
DTSTART;VALUE=DATE:20261123
DTEND;VALUE=DATE:20261205
DTSTAMP:20260423T121623
CREATED:20251115T023528Z
LAST-MODIFIED:20251115T023528Z
UID:19260-1795392000-1796428799@expertise-plus.com
SUMMARY:Stratégies de Négociation et Résolution de Conflits
DESCRIPTION:Stratégies de Négociation et Résolution de Conflits
URL:https://expertise-plus.com/formations/strategies-de-negociation-et-resolution-de-conflits-2/
CATEGORIES:Gestion des ressources humaines,Séminaires fonctionnels
END:VEVENT
BEGIN:VEVENT
DTSTART;VALUE=DATE:20261130
DTEND;VALUE=DATE:20261212
DTSTAMP:20260423T121623
CREATED:20251115T022238Z
LAST-MODIFIED:20251115T022238Z
UID:19208-1795996800-1797033599@expertise-plus.com
SUMMARY:Droit du travail : L'essentiel de la réglementation et de la pratique La contractualisation dans le code du travail
DESCRIPTION:Droit du travail : L’essentiel de la réglementation et de la pratique La contractualisation dans le code du travail
URL:https://expertise-plus.com/formations/droit-du-travail-lessentiel-de-la-reglementation-et-de-la-pratique-la-contractualisation-dans-le-code-du-travail-2/
LOCATION:Abidjan\, Abidjan\, Côte d'Ivoire
CATEGORIES:Gestion des ressources humaines,Séminaires fonctionnels
END:VEVENT
END:VCALENDAR