BEGIN:VCALENDAR
VERSION:2.0
PRODID:-//Expertise-Plus - ECPv6.15.11//NONSGML v1.0//EN
CALSCALE:GREGORIAN
METHOD:PUBLISH
X-ORIGINAL-URL:https://expertise-plus.com
X-WR-CALDESC:Évènements pour Expertise-Plus
REFRESH-INTERVAL;VALUE=DURATION:PT1H
X-Robots-Tag:noindex
X-PUBLISHED-TTL:PT1H
BEGIN:VTIMEZONE
TZID:UTC
BEGIN:STANDARD
TZOFFSETFROM:+0000
TZOFFSETTO:+0000
TZNAME:UTC
DTSTART:20250101T000000
END:STANDARD
END:VTIMEZONE
BEGIN:VEVENT
DTSTART;VALUE=DATE:20260817
DTEND;VALUE=DATE:20260829
DTSTAMP:20260424T202314
CREATED:20251115T014917Z
LAST-MODIFIED:20251115T014917Z
UID:19091-1786924800-1787961599@expertise-plus.com
SUMMARY:Perfectionnement à la Norme ISO 9001 V 2015 : Changements et Implications
DESCRIPTION:Perfectionnement à la Norme ISO 9001 V 2015 : Changements et Implications
URL:https://expertise-plus.com/formations/perfectionnement-a-la-norme-iso-9001-v-2015-changements-et-implications-2/
LOCATION:Casablanca\, Casablanca\, Morocco
CATEGORIES:Management de la Qualité et Normes,Séminaires fonctionnels
END:VEVENT
END:VCALENDAR