BEGIN:VCALENDAR
VERSION:2.0
PRODID:-//Expertise-Plus - ECPv6.15.11//NONSGML v1.0//EN
CALSCALE:GREGORIAN
METHOD:PUBLISH
X-WR-CALNAME:Expertise-Plus
X-ORIGINAL-URL:https://expertise-plus.com
X-WR-CALDESC:Évènements pour Expertise-Plus
REFRESH-INTERVAL;VALUE=DURATION:PT1H
X-Robots-Tag:noindex
X-PUBLISHED-TTL:PT1H
BEGIN:VTIMEZONE
TZID:UTC
BEGIN:STANDARD
TZOFFSETFROM:+0000
TZOFFSETTO:+0000
TZNAME:UTC
DTSTART:20250101T000000
END:STANDARD
END:VTIMEZONE
BEGIN:VEVENT
DTSTART;VALUE=DATE:20260713
DTEND;VALUE=DATE:20260725
DTSTAMP:20260424T160603
CREATED:20251114T131724Z
LAST-MODIFIED:20251114T131724Z
UID:18720-1783900800-1784937599@expertise-plus.com
SUMMARY:Régionalisation et aménagement du territoire
DESCRIPTION:Régionalisation et aménagement du territoire
URL:https://expertise-plus.com/formations/regionalisation-et-amenagement-du-territoire/
LOCATION:Casablanca\, Casablanca\, Morocco
CATEGORIES:Aménagement urbain et développement des territoires,Séminaires sectoriels
END:VEVENT
END:VCALENDAR