BEGIN:VCALENDAR
VERSION:2.0
PRODID:-//Expertise-Plus - ECPv6.15.11//NONSGML v1.0//EN
CALSCALE:GREGORIAN
METHOD:PUBLISH
X-WR-CALNAME:Expertise-Plus
X-ORIGINAL-URL:https://expertise-plus.com
X-WR-CALDESC:Évènements pour Expertise-Plus
REFRESH-INTERVAL;VALUE=DURATION:PT1H
X-Robots-Tag:noindex
X-PUBLISHED-TTL:PT1H
BEGIN:VTIMEZONE
TZID:UTC
BEGIN:STANDARD
TZOFFSETFROM:+0000
TZOFFSETTO:+0000
TZNAME:UTC
DTSTART:20250101T000000
END:STANDARD
END:VTIMEZONE
BEGIN:VEVENT
DTSTART;VALUE=DATE:20260921
DTEND;VALUE=DATE:20261003
DTSTAMP:20260425T001726
CREATED:20251114T131040Z
LAST-MODIFIED:20251114T131243Z
UID:18711-1789948800-1790985599@expertise-plus.com
SUMMARY:Mode de gestion des services publics locaux
DESCRIPTION:Mode de gestion des services publics locaux
URL:https://expertise-plus.com/formations/mode-de-gestion-des-services-publics-locaux/
LOCATION:Casablanca\, Casablanca\, Morocco
CATEGORIES:Aménagement urbain et développement des territoires,Séminaires sectoriels
END:VEVENT
END:VCALENDAR