BEGIN:VCALENDAR
VERSION:2.0
PRODID:-//Expertise-Plus - ECPv6.15.11//NONSGML v1.0//EN
CALSCALE:GREGORIAN
METHOD:PUBLISH
X-WR-CALNAME:Expertise-Plus
X-ORIGINAL-URL:https://expertise-plus.com
X-WR-CALDESC:Évènements pour Expertise-Plus
REFRESH-INTERVAL;VALUE=DURATION:PT1H
X-Robots-Tag:noindex
X-PUBLISHED-TTL:PT1H
BEGIN:VTIMEZONE
TZID:UTC
BEGIN:STANDARD
TZOFFSETFROM:+0000
TZOFFSETTO:+0000
TZNAME:UTC
DTSTART:20250101T000000
END:STANDARD
END:VTIMEZONE
BEGIN:VEVENT
DTSTART;VALUE=DATE:20260202
DTEND;VALUE=DATE:20260214
DTSTAMP:20260424T155535
CREATED:20251114T153240Z
LAST-MODIFIED:20251114T153240Z
UID:18915-1769990400-1771027199@expertise-plus.com
SUMMARY:Contrôle interne et détection des fraudes
DESCRIPTION:Contrôle interne et détection des fraudes
URL:https://expertise-plus.com/formations/controle-interne-et-detection-des-fraudes/
LOCATION:Dakar\, Sénégal
CATEGORIES:Banques, Assurances et Caisses de retraites,Séminaires sectoriels
END:VEVENT
END:VCALENDAR