BEGIN:VCALENDAR
VERSION:2.0
PRODID:-//Expertise-Plus - ECPv6.15.11//NONSGML v1.0//EN
CALSCALE:GREGORIAN
METHOD:PUBLISH
X-WR-CALNAME:Expertise-Plus
X-ORIGINAL-URL:https://expertise-plus.com
X-WR-CALDESC:Évènements pour Expertise-Plus
REFRESH-INTERVAL;VALUE=DURATION:PT1H
X-Robots-Tag:noindex
X-PUBLISHED-TTL:PT1H
BEGIN:VTIMEZONE
TZID:UTC
BEGIN:STANDARD
TZOFFSETFROM:+0000
TZOFFSETTO:+0000
TZNAME:UTC
DTSTART:20250101T000000
END:STANDARD
END:VTIMEZONE
BEGIN:VEVENT
DTSTART;VALUE=DATE:20260209
DTEND;VALUE=DATE:20260221
DTSTAMP:20260424T160024
CREATED:20251114T153322Z
LAST-MODIFIED:20251114T153322Z
UID:18917-1770595200-1771631999@expertise-plus.com
SUMMARY:Cartographie des risques bancaires
DESCRIPTION:Cartographie des risques bancaires
URL:https://expertise-plus.com/formations/cartographie-des-risques-bancaires/
LOCATION:Casablanca\, Casablanca\, Morocco
CATEGORIES:Banques, Assurances et Caisses de retraites,Séminaires sectoriels
END:VEVENT
BEGIN:VEVENT
DTSTART;VALUE=DATE:20260216
DTEND;VALUE=DATE:20260228
DTSTAMP:20260424T160024
CREATED:20251114T153418Z
LAST-MODIFIED:20251114T153418Z
UID:18920-1771200000-1772236799@expertise-plus.com
SUMMARY:Outils de régulation de l'assurance maladie
DESCRIPTION:Outils de régulation de l’assurance maladie
URL:https://expertise-plus.com/formations/outils-de-regulation-de-lassurance-maladie/
LOCATION:Bamako\, Bamako\, Mali
CATEGORIES:Banques, Assurances et Caisses de retraites,Séminaires sectoriels
END:VEVENT
END:VCALENDAR