BEGIN:VCALENDAR
VERSION:2.0
PRODID:-//Expertise-Plus - ECPv6.15.11//NONSGML v1.0//EN
CALSCALE:GREGORIAN
METHOD:PUBLISH
X-ORIGINAL-URL:https://expertise-plus.com
X-WR-CALDESC:Évènements pour Expertise-Plus
REFRESH-INTERVAL;VALUE=DURATION:PT1H
X-Robots-Tag:noindex
X-PUBLISHED-TTL:PT1H
BEGIN:VTIMEZONE
TZID:UTC
BEGIN:STANDARD
TZOFFSETFROM:+0000
TZOFFSETTO:+0000
TZNAME:UTC
DTSTART:20250101T000000
END:STANDARD
END:VTIMEZONE
BEGIN:VEVENT
DTSTART;VALUE=DATE:20260223
DTEND;VALUE=DATE:20260307
DTSTAMP:20260424T153611
CREATED:20251114T142428Z
LAST-MODIFIED:20251114T142428Z
UID:18801-1771804800-1772841599@expertise-plus.com
SUMMARY:Tableau de bord de la DSI
DESCRIPTION:Tableau de bord de la DSI
URL:https://expertise-plus.com/formations/tableau-de-bord-de-la-dsi/
LOCATION:Ouagadougou\, Ouagadougou\, Burkina Faso
CATEGORIES:Séminaires sectoriels,Systèmes d'information
END:VEVENT
BEGIN:VEVENT
DTSTART;VALUE=DATE:20260223
DTEND;VALUE=DATE:20260307
DTSTAMP:20260424T153611
CREATED:20251114T150618Z
LAST-MODIFIED:20251114T150618Z
UID:18863-1771804800-1772841599@expertise-plus.com
SUMMARY:Agriculture de Précision : Utilisation de l'IA pour Optimiser la Production Agricole
DESCRIPTION:Agriculture de Précision : Utilisation de l’IA pour Optimiser la Production Agricole
URL:https://expertise-plus.com/formations/agriculture-de-precision-utilisation-de-lia-pour-optimiser-la-production-agricole/
LOCATION:Ouagadougou\, Ouagadougou\, Burkina Faso
CATEGORIES:Agriculture, eau et assainissement,Séminaires sectoriels
END:VEVENT
BEGIN:VEVENT
DTSTART;VALUE=DATE:20260223
DTEND;VALUE=DATE:20260307
DTSTAMP:20260424T153611
CREATED:20251114T153715Z
LAST-MODIFIED:20251114T153715Z
UID:18926-1771804800-1772841599@expertise-plus.com
SUMMARY:Réforme du régime de pension
DESCRIPTION:Réforme du régime de pension
URL:https://expertise-plus.com/formations/reforme-du-regime-de-pension/
LOCATION:Ouagadougou\, Ouagadougou\, Burkina Faso
CATEGORIES:Banques, Assurances et Caisses de retraites,Séminaires sectoriels
END:VEVENT
END:VCALENDAR