BEGIN:VCALENDAR
VERSION:2.0
PRODID:-//Expertise-Plus - ECPv6.15.11//NONSGML v1.0//EN
CALSCALE:GREGORIAN
METHOD:PUBLISH
X-ORIGINAL-URL:https://expertise-plus.com
X-WR-CALDESC:Évènements pour Expertise-Plus
REFRESH-INTERVAL;VALUE=DURATION:PT1H
X-Robots-Tag:noindex
X-PUBLISHED-TTL:PT1H
BEGIN:VTIMEZONE
TZID:UTC
BEGIN:STANDARD
TZOFFSETFROM:+0000
TZOFFSETTO:+0000
TZNAME:UTC
DTSTART:20250101T000000
END:STANDARD
END:VTIMEZONE
BEGIN:VEVENT
DTSTART;VALUE=DATE:20260316
DTEND;VALUE=DATE:20260328
DTSTAMP:20260424T153609
CREATED:20251114T134841Z
LAST-MODIFIED:20251114T134841Z
UID:18797-1773619200-1774655999@expertise-plus.com
SUMMARY:Gouvernance des systèmes d'information avec COBIT 5
DESCRIPTION:Gouvernance des systèmes d’information avec COBIT 5
URL:https://expertise-plus.com/formations/gouvernance-des-systemes-dinformation-avec-cobit-5/
LOCATION:Casablanca\, Casablanca\, Morocco
CATEGORIES:Séminaires sectoriels,Systèmes d'information
END:VEVENT
BEGIN:VEVENT
DTSTART;VALUE=DATE:20260316
DTEND;VALUE=DATE:20260328
DTSTAMP:20260424T153609
CREATED:20251114T150426Z
LAST-MODIFIED:20251114T150426Z
UID:18860-1773619200-1774655999@expertise-plus.com
SUMMARY:Gestion des systèmes d'irrigation
DESCRIPTION:Gestion des systèmes d’irrigation
URL:https://expertise-plus.com/formations/gestion-des-systemes-dirrigation/
LOCATION:Casablanca\, Casablanca\, Morocco
CATEGORIES:Agriculture, eau et assainissement,Séminaires sectoriels
END:VEVENT
BEGIN:VEVENT
DTSTART;VALUE=DATE:20260316
DTEND;VALUE=DATE:20260328
DTSTAMP:20260424T153609
CREATED:20251114T153630Z
LAST-MODIFIED:20251114T153630Z
UID:18924-1773619200-1774655999@expertise-plus.com
SUMMARY:Assurance : éléments juridiques et techniques
DESCRIPTION:Assurance : éléments juridiques et techniques
URL:https://expertise-plus.com/formations/assurance-elements-juridiques-et-techniques/
LOCATION:Casablanca\, Casablanca\, Morocco
CATEGORIES:Banques, Assurances et Caisses de retraites,Séminaires sectoriels
END:VEVENT
END:VCALENDAR