BEGIN:VCALENDAR
VERSION:2.0
PRODID:-//Expertise-Plus - ECPv6.15.11//NONSGML v1.0//EN
CALSCALE:GREGORIAN
METHOD:PUBLISH
X-WR-CALNAME:Expertise-Plus
X-ORIGINAL-URL:https://expertise-plus.com
X-WR-CALDESC:Évènements pour Expertise-Plus
REFRESH-INTERVAL;VALUE=DURATION:PT1H
X-Robots-Tag:noindex
X-PUBLISHED-TTL:PT1H
BEGIN:VTIMEZONE
TZID:UTC
BEGIN:STANDARD
TZOFFSETFROM:+0000
TZOFFSETTO:+0000
TZNAME:UTC
DTSTART:20250101T000000
END:STANDARD
END:VTIMEZONE
BEGIN:VEVENT
DTSTART;VALUE=DATE:20260831
DTEND;VALUE=DATE:20260912
DTSTAMP:20260424T205329
CREATED:20251114T133037Z
LAST-MODIFIED:20251114T133037Z
UID:18751-1788134400-1789171199@expertise-plus.com
SUMMARY:Optimisation de l'Extraction Minérale avec l'IA
DESCRIPTION:Optimisation de l’Extraction Minérale avec l’IA
URL:https://expertise-plus.com/formations/optimisation-de-lextraction-minerale-avec-lia-2/
LOCATION:Dakar\, Sénégal
CATEGORIES:Mines,Séminaires sectoriels
END:VEVENT
END:VCALENDAR