BEGIN:VCALENDAR
VERSION:2.0
PRODID:-//Expertise-Plus - ECPv6.15.11//NONSGML v1.0//EN
CALSCALE:GREGORIAN
METHOD:PUBLISH
X-ORIGINAL-URL:https://expertise-plus.com
X-WR-CALDESC:Évènements pour Expertise-Plus
REFRESH-INTERVAL;VALUE=DURATION:PT1H
X-Robots-Tag:noindex
X-PUBLISHED-TTL:PT1H
BEGIN:VTIMEZONE
TZID:UTC
BEGIN:STANDARD
TZOFFSETFROM:+0000
TZOFFSETTO:+0000
TZNAME:UTC
DTSTART:20250101T000000
END:STANDARD
END:VTIMEZONE
BEGIN:VEVENT
DTSTART;VALUE=DATE:20260629
DTEND;VALUE=DATE:20260711
DTSTAMP:20260424T153944
CREATED:20251114T134028Z
LAST-MODIFIED:20251114T134028Z
UID:18775-1782691200-1783727999@expertise-plus.com
SUMMARY:Management des hôpitaux et établissements de santé : Optimisation des ressources et performance
DESCRIPTION:Management des hôpitaux et établissements de santé : Optimisation des ressources et performance
URL:https://expertise-plus.com/formations/management-des-hopitaux-et-etablissements-de-sante-optimisation-des-ressources-et-performance/
LOCATION:Abidjan\, Abidjan\, Côte d'Ivoire
CATEGORIES:Santé,Séminaires sectoriels
END:VEVENT
END:VCALENDAR