BEGIN:VCALENDAR
VERSION:2.0
PRODID:-//Expertise-Plus - ECPv6.15.11//NONSGML v1.0//EN
CALSCALE:GREGORIAN
METHOD:PUBLISH
X-WR-CALNAME:Expertise-Plus
X-ORIGINAL-URL:https://expertise-plus.com
X-WR-CALDESC:Évènements pour Expertise-Plus
REFRESH-INTERVAL;VALUE=DURATION:PT1H
X-Robots-Tag:noindex
X-PUBLISHED-TTL:PT1H
BEGIN:VTIMEZONE
TZID:UTC
BEGIN:STANDARD
TZOFFSETFROM:+0000
TZOFFSETTO:+0000
TZNAME:UTC
DTSTART:20250101T000000
END:STANDARD
END:VTIMEZONE
BEGIN:VEVENT
DTSTART;VALUE=DATE:20260223
DTEND;VALUE=DATE:20260307
DTSTAMP:20260424T122202
CREATED:20251116T171118Z
LAST-MODIFIED:20251116T171118Z
UID:19552-1771804800-1772841599@expertise-plus.com
SUMMARY:Gestion de la Conformité et des Règlementations avec l'IA dans les Archives
DESCRIPTION:Gestion de la Conformité et des Règlementations avec l’IA dans les Archives
URL:https://expertise-plus.com/formations/gestion-de-la-conformite-et-des-reglementations-avec-lia-dans-les-archives/
LOCATION:Ouagadougou\, Ouagadougou\, Burkina Faso
CATEGORIES:Archivage et gestion électronique des documents,Séminaires transversaux
END:VEVENT
BEGIN:VEVENT
DTSTART;VALUE=DATE:20260316
DTEND;VALUE=DATE:20260328
DTSTAMP:20260424T122202
CREATED:20251116T171032Z
LAST-MODIFIED:20251116T171032Z
UID:19551-1773619200-1774655999@expertise-plus.com
SUMMARY:Automatisation de l'Archivage avec l'IA : Gain d'Efficacité et de Sécurité
DESCRIPTION:Automatisation de l’Archivage avec l’IA : Gain d’Efficacité et de Sécurité
URL:https://expertise-plus.com/formations/automatisation-de-larchivage-avec-lia-gain-defficacite-et-de-securite/
LOCATION:Casablanca\, Casablanca\, Morocco
CATEGORIES:Archivage et gestion électronique des documents,Séminaires transversaux
END:VEVENT
BEGIN:VEVENT
DTSTART;VALUE=DATE:20260331
DTEND;VALUE=DATE:20260411
DTSTAMP:20260424T122202
CREATED:20251116T172151Z
LAST-MODIFIED:20251116T172151Z
UID:19589-1774915200-1775865599@expertise-plus.com
SUMMARY:Étude de Faisabilité : Passage à l'Archivage Électronique
DESCRIPTION:Étude de Faisabilité : Passage à l’Archivage Électronique
URL:https://expertise-plus.com/formations/etude-de-faisabilite-passage-a-larchivage-electronique/
LOCATION:Dakar\, Sénégal
CATEGORIES:Archivage et gestion électronique des documents,Séminaires transversaux
END:VEVENT
END:VCALENDAR