BEGIN:VCALENDAR
VERSION:2.0
PRODID:-//Expertise-Plus - ECPv6.15.11//NONSGML v1.0//EN
CALSCALE:GREGORIAN
METHOD:PUBLISH
X-ORIGINAL-URL:https://expertise-plus.com
X-WR-CALDESC:Évènements pour Expertise-Plus
REFRESH-INTERVAL;VALUE=DURATION:PT1H
X-Robots-Tag:noindex
X-PUBLISHED-TTL:PT1H
BEGIN:VTIMEZONE
TZID:UTC
BEGIN:STANDARD
TZOFFSETFROM:+0000
TZOFFSETTO:+0000
TZNAME:UTC
DTSTART:20250101T000000
END:STANDARD
END:VTIMEZONE
BEGIN:VEVENT
DTSTART;VALUE=DATE:20261026
DTEND;VALUE=DATE:20261107
DTSTAMP:20260422T165612
CREATED:20251116T171933Z
LAST-MODIFIED:20251116T171933Z
UID:19580-1792972800-1794009599@expertise-plus.com
SUMMARY:Organisation du Système des Archives Physiques : Meilleures Pratiques
DESCRIPTION:Organisation du Système des Archives Physiques : Meilleures Pratiques
URL:https://expertise-plus.com/formations/organisation-du-systeme-des-archives-physiques-meilleures-pratiques-2/
LOCATION:Dakar\, Sénégal
CATEGORIES:Archivage et gestion électronique des documents,Séminaires transversaux
END:VEVENT
BEGIN:VEVENT
DTSTART;VALUE=DATE:20261130
DTEND;VALUE=DATE:20261212
DTSTAMP:20260422T165612
CREATED:20251116T172246Z
LAST-MODIFIED:20251116T172246Z
UID:19592-1795996800-1797033599@expertise-plus.com
SUMMARY:Mise en Place d'un Logiciel de GEID : Aspects Techniques et Stratégies
DESCRIPTION:Mise en Place d’un Logiciel de GEID : Aspects Techniques et Stratégies
URL:https://expertise-plus.com/formations/mise-en-place-dun-logiciel-de-geid-aspects-techniques-et-strategies-2/
LOCATION:Abidjan\, Abidjan\, Côte d'Ivoire
CATEGORIES:Archivage et gestion électronique des documents,Séminaires transversaux
END:VEVENT
END:VCALENDAR