BEGIN:VCALENDAR
VERSION:2.0
PRODID:-//Expertise-Plus - ECPv6.15.11//NONSGML v1.0//EN
CALSCALE:GREGORIAN
METHOD:PUBLISH
X-ORIGINAL-URL:https://expertise-plus.com
X-WR-CALDESC:Évènements pour Expertise-Plus
REFRESH-INTERVAL;VALUE=DURATION:PT1H
X-Robots-Tag:noindex
X-PUBLISHED-TTL:PT1H
BEGIN:VTIMEZONE
TZID:UTC
BEGIN:STANDARD
TZOFFSETFROM:+0000
TZOFFSETTO:+0000
TZNAME:UTC
DTSTART:20250101T000000
END:STANDARD
END:VTIMEZONE
BEGIN:VEVENT
DTSTART;VALUE=DATE:20260202
DTEND;VALUE=DATE:20260214
DTSTAMP:20260423T120227
CREATED:20251116T163855Z
LAST-MODIFIED:20251116T163855Z
UID:19470-1769990400-1771027199@expertise-plus.com
SUMMARY:Passation et Exécution des Marchés Publics : Cadre Réglementaire et Innovations
DESCRIPTION:Passation et Exécution des Marchés Publics : Cadre Réglementaire et Innovations
URL:https://expertise-plus.com/formations/passation-et-execution-des-marches-publics-cadre-reglementaire-et-innovations/
LOCATION:Dakar\, Sénégal
CATEGORIES:Commande publique,Séminaires transversaux
END:VEVENT
BEGIN:VEVENT
DTSTART;VALUE=DATE:20260202
DTEND;VALUE=DATE:20260214
DTSTAMP:20260423T120227
CREATED:20251116T170725Z
LAST-MODIFIED:20251116T170725Z
UID:19542-1769990400-1771027199@expertise-plus.com
SUMMARY:Gestion Électronique de l'Information : Stratégies et Mise en Œuvre
DESCRIPTION:Gestion Électronique de l’Information : Stratégies et Mise en Œuvre
URL:https://expertise-plus.com/formations/gestion-electronique-de-linformation-strategies-et-mise-en-oeuvre-2/
LOCATION:Dakar\, Sénégal
CATEGORIES:Commande publique,Séminaires transversaux
END:VEVENT
END:VCALENDAR